Workbook
Name _1: リスト!$E$3:$E$33
Name _10: リスト!$N$3:$N$33
Name _11: リスト!$O$3:$O$32
Name _12: リスト!$P$3:$P$33
Name _2: リスト!$F$3:$F$31
Name _2024: リスト!$H$2:$P$2
Name _2025: リスト!$E$2:$F$2
Name _3: リスト!$G$3:$G$33
Name _4: リスト!$H$3:$H$32
Name _5: リスト!$I$3:$I$33
Name _6: リスト!$J$3:$J$32
Name _7: リスト!$K$3:$K$33
Name _8: リスト!$L$3:$L$33
Name _9: リスト!$M$3:$M$32
Name 開始日: リスト!$R$3:$R$13
Name 期間: リスト!$R$2:$T$13
Name 事業名: リスト!$A$3:$A$3
Name 補助対象事業: リスト!$B$3:$B$9
Name 曜日: リスト!$C$3:$C$9
Name 曜日変換: リスト!$C$3:$D$9

Sheet リスト
A1: →プルダウンリスト 削除しない | E1: 月
A2: 事業名 | B2: 補助対象事業（交通事業のみ選択） | C2: 曜日 | E2: 1 | F2: 2 | G2: 3 | H2: 4 | I2: 5 | J2: 6 | K2: 7 | L2: 8 | M2: 9 | N2: 10 | O2: 11 | P2: 12 | R2: 自 | S2: 至 | T2: 曜日
A3: オーバーツーリズムの未然防止・抑制による持続可能な観光推進事業 | B3: 調査・分析 | C3: 月 | D3: 火 | E3: 1 | F3: 1 | G3: 1 | H3: 1 | I3: 1 | J3: 1 | K3: 1 | L3: 1 | M3: 1 | N3: 1 | O3: 1 | P3: 1 | R3: 46113 | S3: 46142 | T3: =TEXT(R3,"aaa") -> 水
B4: 対策計画策定 | C4: 火 | D4: 水 | E4: 2 | F4: 2 | G4: 2 | H4: 2 | I4: 2 | J4: 2 | K4: 2 | L4: 2 | M4: 2 | N4: 2 | O4: 2 | P4: 2 | R4: 46143 | S4: 46173 | T4: =TEXT(R4,"aaa") -> 金
B5: 受入環境の整備・増強 | C5: 水 | D5: 木 | E5: 3 | F5: 3 | G5: 3 | H5: 3 | I5: 3 | J5: 3 | K5: 3 | L5: 3 | M5: 3 | N5: 3 | O5: 3 | P5: 3 | R5: 46174 | S5: 46203 | T5: =TEXT(R5,"aaa") -> 月
B6: 需要の適切な管理 | C6: 木 | D6: 金 | E6: 4 | F6: 4 | G6: 4 | H6: 4 | I6: 4 | J6: 4 | K6: 4 | L6: 4 | M6: 4 | N6: 4 | O6: 4 | P6: 4 | R6: 46204 | S6: 46234 | T6: =TEXT(R6,"aaa") -> 水
B7: 観光客の分散・平準化 | C7: 金 | D7: 土 | E7: 5 | F7: 5 | G7: 5 | H7: 5 | I7: 5 | J7: 5 | K7: 5 | L7: 5 | M7: 5 | N7: 5 | O7: 5 | P7: 5 | R7: 46235 | S7: 46265 | T7: =TEXT(R7,"aaa") -> 土
B8: マナー啓発 | C8: 土 | D8: 日 | E8: 6 | F8: 6 | G8: 6 | H8: 6 | I8: 6 | J8: 6 | K8: 6 | L8: 6 | M8: 6 | N8: 6 | O8: 6 | P8: 6 | R8: 46266 | S8: 46295 | T8: =TEXT(R8,"aaa") -> 火
B9: 地域住民と協業した観光振興 | C9: 日 | D9: 月 | E9: 7 | F9: 7 | G9: 7 | H9: 7 | I9: 7 | J9: 7 | K9: 7 | L9: 7 | M9: 7 | N9: 7 | O9: 7 | P9: 7 | R9: 46296 | S9: 46326 | T9: =TEXT(R9,"aaa") -> 木
E10: 8 | F10: 8 | G10: 8 | H10: 8 | I10: 8 | J10: 8 | K10: 8 | L10: 8 | M10: 8 | N10: 8 | O10: 8 | P10: 8 | R10: 46327 | S10: 46356 | T10: =TEXT(R10,"aaa") -> 日
E11: 9 | F11: 9 | G11: 9 | H11: 9 | I11: 9 | J11: 9 | K11: 9 | L11: 9 | M11: 9 | N11: 9 | O11: 9 | P11: 9 | R11: 46357 | S11: 46387 | T11: =TEXT(R11,"aaa") -> 火
E12: 10 | F12: 10 | G12: 10 | H12: 10 | I12: 10 | J12: 10 | K12: 10 | L12: 10 | M12: 10 | N12: 10 | O12: 10 | P12: 10 | R12: 46388 | S12: 46418 | T12: =TEXT(R12,"aaa") -> 金
E13: 11 | F13: 11 | G13: 11 | H13: 11 | I13: 11 | J13: 11 | K13: 11 | L13: 11 | M13: 11 | N13: 11 | O13: 11 | P13: 11 | R13: 46419 | S13: 46446 | T13: =TEXT(R13,"aaa") -> 月
E14: 12 | F14: 12 | G14: 12 | H14: 12 | I14: 12 | J14: 12 | K14: 12 | L14: 12 | M14: 12 | N14: 12 | O14: 12 | P14: 12
E15: 13 | F15: 13 | G15: 13 | H15: 13 | I15: 13 | J15: 13 | K15: 13 | L15: 13 | M15: 13 | N15: 13 | O15: 13 | P15: 13
E16: 14 | F16: 14 | G16: 14 | H16: 14 | I16: 14 | J16: 14 | K16: 14 | L16: 14 | M16: 14 | N16: 14 | O16: 14 | P16: 14
E17: 15 | F17: 15 | G17: 15 | H17: 15 | I17: 15 | J17: 15 | K17: 15 | L17: 15 | M17: 15 | N17: 15 | O17: 15 | P17: 15
E18: 16 | F18: 16 | G18: 16 | H18: 16 | I18: 16 | J18: 16 | K18: 16 | L18: 16 | M18: 16 | N18: 16 | O18: 16 | P18: 16
E19: 17 | F19: 17 | G19: 17 | H19: 17 | I19: 17 | J19: 17 | K19: 17 | L19: 17 | M19: 17 | N19: 17 | O19: 17 | P19: 17
E20: 18 | F20: 18 | G20: 18 | H20: 18 | I20: 18 | J20: 18 | K20: 18 | L20: 18 | M20: 18 | N20: 18 | O20: 18 | P20: 18
E21: 19 | F21: 19 | G21: 19 | H21: 19 | I21: 19 | J21: 19 | K21: 19 | L21: 19 | M21: 19 | N21: 19 | O21: 19 | P21: 19
E22: 20 | F22: 20 | G22: 20 | H22: 20 | I22: 20 | J22: 20 | K22: 20 | L22: 20 | M22: 20 | N22: 20 | O22: 20 | P22: 20
E23: 21 | F23: 21 | G23: 21 | H23: 21 | I23: 21 | J23: 21 | K23: 21 | L23: 21 | M23: 21 | N23: 21 | O23: 21 | P23: 21
E24: 22 | F24: 22 | G24: 22 | H24: 22 | I24: 22 | J24: 22 | K24: 22 | L24: 22 | M24: 22 | N24: 22 | O24: 22 | P24: 22
E25: 23 | F25: 23 | G25: 23 | H25: 23 | I25: 23 | J25: 23 | K25: 23 | L25: 23 | M25: 23 | N25: 23 | O25: 23 | P25: 23
... E28: 26 | F28: 26 | G28: 26 | H28: 26 | I28: 26 | J28: 26 | K28: 26 | L28: 26 | M28: 26 | N28: 26 | O28: 26 | P28: 26
E29: 27 | G29: 27 | H29: 27 | I29: 27 | J29: 27 | K29: 27 | L29: 27 | M29: 27 | N29: 27 | O29: 27 | P29: 27
E30: 28 | G30: 28 | H30: 28 | I30: 28 | J30: 28 | K30: 28 | L30: 28 | M30: 28 | N30: 28 | O30: 28 | P30: 28
E31: 29 | G31: 29 | H31: 29 | I31: 29 | J31: 29 | K31: 29 | L31: 29 | M31: 29 | N31: 29 | O31: 29 | P31: 29
E32: 30 | G32: 30 | H32: 30 | I32: 30 | J32: 30 | K32: 30 | L32: 30 | M32: 30 | N32: 30 | O32: 30 | P32: 30
E33: 31 | G33: 31 | I33: 31 | K33: 31 | L33: 31 | N33: 31 | P33: 31

Sheet 業務日誌_○月
B2: 様式16（業務日誌） | L2: =IF(E5="","○年 ○月分 業務日誌（補助事業従事簿）",YEAR(E5)&"年 "&MONTH(E5)&"月分 業務日誌（補助事業従事簿）") -> ○年 ○月分 業務日誌（補助事業従事簿）
B4: 補助対象事業名 | Y4: 計画申請番号 | AC4: {=IF(AND(LEN(AC5)=14,LEFT(AC5,2)="OT",MID(AC5,3,2)="08",MID(AC5,5,1)="K",SUMPRODUCT(--ISNUMBER(FIND(MID(AC5,ROW($6:$14),1),"0123456789")))=9),LEFT(AC5,4)&"P"&MID(AC5,6,5)&"0000","交付申請番号を正しくご入力ください ※半角数字・大文字小文字もご注意ください")} -> 交付申請番号を正しくご入力ください ※半角数字・大文字小文字もご注意ください
B5: 期間 | D5: （自） | N5: 所属 | Y5: 交付申請番号
D6: （至） | E6: =IFERROR(VLOOKUP(E5,期間,2,0),"") | N6: 氏名 | Y6: 補助対象事業者名
N7: 支払い基準 | O7: 時給 | Y7: 管理責任者所属
Y8: 氏名
B10: 日 | C10: 曜 | D10: 時間内労働時間 | Q10: 時間外労働時間
D11: 時間内労働時間 | J11: うち休憩時間等 | M11: 補助事業従事時間 | N11: 正味時間 | P11: 作業内容、備考等 | Q11: 時間外労働時間 | W11: うち休憩時間等 | Z11: 補助事業従事時間 | AA11: 正味時間 | AC11: 作業内容、備考等 | AE11: 「作業内容」に記載した 略号の説明
B12: 付 | C12: 日 | D12: 自（時間：分） | F12: 至（時間：分） | G12: ( | H12: 時間：分 | I12: ) | J12: ( | K12: 時間：分 | L12: ) | M12: ( | N12: 時間：分 | O12: ) | Q12: 自（時間：分） | S12: 至（時間：分） | T12: ( | U12: 時間：分 | V12: ) | W12: ( | X12: 時間：分 | Y12: ) | Z12: ( | AA12: 時間：分 | AB12: )
B13: {=IFERROR(IF(INDEX(リスト!$E$3:$P$33,ROW()-12,MATCH(MONTH($E$5),リスト!$E$2:$P$2,0))="","",INDEX(リスト!$E$3:$P$33,ROW()-12,MATCH(MONTH($E$5),リスト!$E$2:$P$2,0))),"")} -> 1 | C13: =IF(B13="","",IFERROR(VLOOKUP(E5,期間,3,0),"")) | E13: ～ | G13: ( | H13: =F13-D13 -> 0 | I13: ) | J13: ( | L13: ) | M13: ( | N13: =H13-K13 -> 0 | O13: ) | R13: ～ | T13: ( | U13: =S13-Q13 -> 0 | V13: ) | W13: ( | Y13: ) | Z13: ( | AA13: =U13-X13 -> 0 | AB13: ) | AE13: A
B14: {=IFERROR(IF(INDEX(リスト!$E$3:$P$33,ROW()-12,MATCH(MONTH($E$5),リスト!$E$2:$P$2,0))="","",INDEX(リスト!$E$3:$P$33,ROW()-12,MATCH(MONTH($E$5),リスト!$E$2:$P$2,0))),"")} -> 2 | C14: =IF(B14="","",IFERROR(VLOOKUP(C13,曜日変換,2,0),"")) | E14: ～ | G14: ( | H14: =F14-D14 -> 0 | I14: ) | J14: ( | L14: ) | M14: ( | N14: =H14-K14 -> 0 | O14: ) | R14: ～ | T14: ( | U14: =S14-Q14 -> 0 | V14: ) | W14: ( | Y14: ) | Z14: ( | AA14: =U14-X14 -> 0 | AB14: )
B15: {=IFERROR(IF(INDEX(リスト!$E$3:$P$33,ROW()-12,MATCH(MONTH($E$5),リスト!$E$2:$P$2,0))="","",INDEX(リスト!$E$3:$P$33,ROW()-12,MATCH(MONTH($E$5),リスト!$E$2:$P$2,0))),"")} -> 3 | C15: =IF(B15="","",IFERROR(VLOOKUP(C14,曜日変換,2,0),"")) | E15: ～ | G15: ( | H15: =F15-D15 -> 0 | I15: ) | J15: ( | L15: ) | M15: ( | N15: =H15-K15 -> 0 | O15: ) | R15: ～ | T15: ( | U15: =S15-Q15 -> 0 | V15: ) | W15: ( | Y15: ) | Z15: ( | AA15: =U15-X15 -> 0 | AB15: ) | AE15: B
B16: {=IFERROR(IF(INDEX(リスト!$E$3:$P$33,ROW()-12,MATCH(MONTH($E$5),リスト!$E$2:$P$2,0))="","",INDEX(リスト!$E$3:$P$33,ROW()-12,MATCH(MONTH($E$5),リスト!$E$2:$P$2,0))),"")} -> 4 | C16: =IF(B16="","",IFERROR(VLOOKUP(C15,曜日変換,2,0),"")) | E16: ～ | G16: ( | H16: =F16-D16 -> 0 | I16: ) | J16: ( | L16: ) | M16: ( | N16: =H16-K16 -> 0 | O16: ) | R16: ～ | T16: ( | U16: =S16-Q16 -> 0 | V16: ) | W16: ( | Y16: ) | Z16: ( | AA16: =U16-X16 -> 0 | AB16: )
B17: {=IFERROR(IF(INDEX(リスト!$E$3:$P$33,ROW()-12,MATCH(MONTH($E$5),リスト!$E$2:$P$2,0))="","",INDEX(リスト!$E$3:$P$33,ROW()-12,MATCH(MONTH($E$5),リスト!$E$2:$P$2,0))),"")} -> 5 | C17: =IF(B17="","",IFERROR(VLOOKUP(C16,曜日変換,2,0),"")) | E17: ～ | G17: ( | H17: =F17-D17 -> 0 | I17: ) | J17: ( | L17: ) | M17: ( | N17: =H17-K17 -> 0 | O17: ) | R17: ～ | T17: ( | U17: =S17-Q17 -> 0 | V17: ) | W17: ( | Y17: ) | Z17: ( | AA17: =U17-X17 -> 0 | AB17: ) | AE17: C
B18: {=IFERROR(IF(INDEX(リスト!$E$3:$P$33,ROW()-12,MATCH(MONTH($E$5),リスト!$E$2:$P$2,0))="","",INDEX(リスト!$E$3:$P$33,ROW()-12,MATCH(MONTH($E$5),リスト!$E$2:$P$2,0))),"")} -> 6 | C18: =IF(B18="","",IFERROR(VLOOKUP(C17,曜日変換,2,0),"")) | E18: ～ | G18: ( | H18: =F18-D18 -> 0 | I18: ) | J18: ( | L18: ) | M18: ( | N18: =H18-K18 -> 0 | O18: ) | R18: ～ | T18: ( | U18: =S18-Q18 -> 0 | V18: ) | W18: ( | Y18: ) | Z18: ( | AA18: =U18-X18 -> 0 | AB18: )
B19: {=IFERROR(IF(INDEX(リスト!$E$3:$P$33,ROW()-12,MATCH(MONTH($E$5),リスト!$E$2:$P$2,0))="","",INDEX(リスト!$E$3:$P$33,ROW()-12,MATCH(MONTH($E$5),リスト!$E$2:$P$2,0))),"")} -> 7 | C19: =IF(B19="","",IFERROR(VLOOKUP(C18,曜日変換,2,0),"")) | E19: ～ | G19: ( | H19: =F19-D19 -> 0 | I19: ) | J19: ( | L19: ) | M19: ( | N19: =H19-K19 -> 0 | O19: ) | R19: ～ | T19: ( | U19: =S19-Q19 -> 0 | V19: ) | W19: ( | Y19: ) | Z19: ( | AA19: =U19-X19 -> 0 | AB19: ) | AE19: D
B20: {=IFERROR(IF(INDEX(リスト!$E$3:$P$33,ROW()-12,MATCH(MONTH($E$5),リスト!$E$2:$P$2,0))="","",INDEX(リスト!$E$3:$P$33,ROW()-12,MATCH(MONTH($E$5),リスト!$E$2:$P$2,0))),"")} -> 8 | C20: =IF(B20="","",IFERROR(VLOOKUP(C19,曜日変換,2,0),"")) | E20: ～ | G20: ( | H20: =F20-D20 -> 0 | I20: ) | J20: ( | L20: ) | M20: ( | N20: =H20-K20 -> 0 | O20: ) | R20: ～ | T20: ( | U20: =S20-Q20 -> 0 | V20: ) | W20: ( | Y20: ) | Z20: ( | AA20: =U20-X20 -> 0 | AB20: )
B21: {=IFERROR(IF(INDEX(リスト!$E$3:$P$33,ROW()-12,MATCH(MONTH($E$5),リスト!$E$2:$P$2,0))="","",INDEX(リスト!$E$3:$P$33,ROW()-12,MATCH(MONTH($E$5),リスト!$E$2:$P$2,0))),"")} -> 9 | C21: =IF(B21="","",IFERROR(VLOOKUP(C20,曜日変換,2,0),"")) | E21: ～ | G21: ( | H21: =F21-D21 -> 0 | I21: ) | J21: ( | L21: ) | M21: ( | N21: =H21-K21 -> 0 | O21: ) | R21: ～ | T21: ( | U21: =S21-Q21 -> 0 | V21: ) | W21: ( | Y21: ) | Z21: ( | AA21: =U21-X21 -> 0 | AB21: ) | AE21: E
B22: {=IFERROR(IF(INDEX(リスト!$E$3:$P$33,ROW()-12,MATCH(MONTH($E$5),リスト!$E$2:$P$2,0))="","",INDEX(リスト!$E$3:$P$33,ROW()-12,MATCH(MONTH($E$5),リスト!$E$2:$P$2,0))),"")} -> 10 | C22: =IF(B22="","",IFERROR(VLOOKUP(C21,曜日変換,2,0),"")) | E22: ～ | G22: ( | H22: =F22-D22 -> 0 | I22: ) | J22: ( | L22: ) | M22: ( | N22: =H22-K22 -> 0 | O22: ) | R22: ～ | T22: ( | U22: =S22-Q22 -> 0 | V22: ) | W22: ( | Y22: ) | Z22: ( | AA22: =U22-X22 -> 0 | AB22: )
B23: {=IFERROR(IF(INDEX(リスト!$E$3:$P$33,ROW()-12,MATCH(MONTH($E$5),リスト!$E$2:$P$2,0))="","",INDEX(リスト!$E$3:$P$33,ROW()-12,MATCH(MONTH($E$5),リスト!$E$2:$P$2,0))),"")} -> 11 | C23: =IF(B23="","",IFERROR(VLOOKUP(C22,曜日変換,2,0),"")) | E23: ～ | G23: ( | H23: =F23-D23 -> 0 | I23: ) | J23: ( | L23: ) | M23: ( | N23: =H23-K23 -> 0 | O23: ) | R23: ～ | T23: ( | U23: =S23-Q23 -> 0 | V23: ) | W23: ( | Y23: ) | Z23: ( | AA23: =U23-X23 -> 0 | AB23: ) | AE23: F
B24: {=IFERROR(IF(INDEX(リスト!$E$3:$P$33,ROW()-12,MATCH(MONTH($E$5),リスト!$E$2:$P$2,0))="","",INDEX(リスト!$E$3:$P$33,ROW()-12,MATCH(MONTH($E$5),リスト!$E$2:$P$2,0))),"")} -> 12 | C24: =IF(B24="","",IFERROR(VLOOKUP(C23,曜日変換,2,0),"")) | E24: ～ | G24: ( | H24: =F24-D24 -> 0 | I24: ) | J24: ( | L24: ) | M24: ( | N24: =H24-K24 -> 0 | O24: ) | R24: ～ | T24: ( | U24: =S24-Q24 -> 0 | V24: ) | W24: ( | Y24: ) | Z24: ( | AA24: =U24-X24 -> 0 | AB24: )
B25: {=IFERROR(IF(INDEX(リスト!$E$3:$P$33,ROW()-12,MATCH(MONTH($E$5),リスト!$E$2:$P$2,0))="","",INDEX(リスト!$E$3:$P$33,ROW()-12,MATCH(MONTH($E$5),リスト!$E$2:$P$2,0))),"")} -> 13 | C25: =IF(B25="","",IFERROR(VLOOKUP(C24,曜日変換,2,0),"")) | E25: ～ | G25: ( | H25: =F25-D25 -> 0 | I25: ) | J25: ( | L25: ) | M25: ( | N25: =H25-K25 -> 0 | O25: ) | R25: ～ | T25: ( | U25: =S25-Q25 -> 0 | V25: ) | W25: ( | Y25: ) | Z25: ( | AA25: =U25-X25 -> 0 | AB25: ) | AE25: G
B26: {=IFERROR(IF(INDEX(リスト!$E$3:$P$33,ROW()-12,MATCH(MONTH($E$5),リスト!$E$2:$P$2,0))="","",INDEX(リスト!$E$3:$P$33,ROW()-12,MATCH(MONTH($E$5),リスト!$E$2:$P$2,0))),"")} -> 14 | C26: =IF(B26="","",IFERROR(VLOOKUP(C25,曜日変換,2,0),"")) | E26: ～ | G26: ( | H26: =F26-D26 -> 0 | I26: ) | J26: ( | L26: ) | M26: ( | N26: =H26-K26 -> 0 | O26: ) | R26: ～ | T26: ( | U26: =S26-Q26 -> 0 | V26: ) | W26: ( | Y26: ) | Z26: ( | AA26: =U26-X26 -> 0 | AB26: )
B27: {=IFERROR(IF(INDEX(リスト!$E$3:$P$33,ROW()-12,MATCH(MONTH($E$5),リスト!$E$2:$P$2,0))="","",INDEX(リスト!$E$3:$P$33,ROW()-12,MATCH(MONTH($E$5),リスト!$E$2:$P$2,0))),"")} -> 15 | C27: =IF(B27="","",IFERROR(VLOOKUP(C26,曜日変換,2,0),"")) | E27: ～ | G27: ( | H27: =F27-D27 -> 0 | I27: ) | J27: ( | L27: ) | M27: ( | N27: =H27-K27 -> 0 | O27: ) | R27: ～ | T27: ( | U27: =S27-Q27 -> 0 | V27: ) | W27: ( | Y27: ) | Z27: ( | AA27: =U27-X27 -> 0 | AB27: ) | AE27: H
B28: {=IFERROR(IF(INDEX(リスト!$E$3:$P$33,ROW()-12,MATCH(MONTH($E$5),リスト!$E$2:$P$2,0))="","",INDEX(リスト!$E$3:$P$33,ROW()-12,MATCH(MONTH($E$5),リスト!$E$2:$P$2,0))),"")} -> 16 | C28: =IF(B28="","",IFERROR(VLOOKUP(C27,曜日変換,2,0),"")) | E28: ～ | G28: ( | H28: =F28-D28 -> 0 | I28: ) | J28: ( | L28: ) | M28: ( | N28: =H28-K28 -> 0 | O28: ) | R28: ～ | T28: ( | U28: =S28-Q28 -> 0 | V28: ) | W28: ( | Y28: ) | Z28: ( | AA28: =U28-X28 -> 0 | AB28: )
B29: {=IFERROR(IF(INDEX(リスト!$E$3:$P$33,ROW()-12,MATCH(MONTH($E$5),リスト!$E$2:$P$2,0))="","",INDEX(リスト!$E$3:$P$33,ROW()-12,MATCH(MONTH($E$5),リスト!$E$2:$P$2,0))),"")} -> 17 | C29: =IF(B29="","",IFERROR(VLOOKUP(C28,曜日変換,2,0),"")) | E29: ～ | G29: ( | H29: =F29-D29 -> 0 | I29: ) | J29: ( | L29: ) | M29: ( | N29: =H29-K29 -> 0 | O29: ) | R29: ～ | T29: ( | U29: =S29-Q29 -> 0 | V29: ) | W29: ( | Y29: ) | Z29: ( | AA29: =U29-X29 -> 0 | AB29: ) | AE29: I
B30: {=IFERROR(IF(INDEX(リスト!$E$3:$P$33,ROW()-12,MATCH(MONTH($E$5),リスト!$E$2:$P$2,0))="","",INDEX(リスト!$E$3:$P$33,ROW()-12,MATCH(MONTH($E$5),リスト!$E$2:$P$2,0))),"")} -> 18 | C30: =IF(B30="","",IFERROR(VLOOKUP(C29,曜日変換,2,0),"")) | E30: ～ | G30: ( | H30: =F30-D30 -> 0 | I30: ) | J30: ( | L30: ) | M30: ( | N30: =H30-K30 -> 0 | O30: ) | R30: ～ | T30: ( | U30: =S30-Q30 -> 0 | V30: ) | W30: ( | Y30: ) | Z30: ( | AA30: =U30-X30 -> 0 | AB30: )
B31: {=IFERROR(IF(INDEX(リスト!$E$3:$P$33,ROW()-12,MATCH(MONTH($E$5),リスト!$E$2:$P$2,0))="","",INDEX(リスト!$E$3:$P$33,ROW()-12,MATCH(MONTH($E$5),リスト!$E$2:$P$2,0))),"")} -> 19 | C31: =IF(B31="","",IFERROR(VLOOKUP(C30,曜日変換,2,0),"")) | E31: ～ | G31: ( | H31: =F31-D31 -> 0 | I31: ) | J31: ( | L31: ) | M31: ( | N31: =H31-K31 -> 0 | O31: ) | R31: ～ | T31: ( | U31: =S31-Q31 -> 0 | V31: ) | W31: ( | Y31: ) | Z31: ( | AA31: =U31-X31 -> 0 | AB31: ) | AE31: J
B32: {=IFERROR(IF(INDEX(リスト!$E$3:$P$33,ROW()-12,MATCH(MONTH($E$5),リスト!$E$2:$P$2,0))="","",INDEX(リスト!$E$3:$P$33,ROW()-12,MATCH(MONTH($E$5),リスト!$E$2:$P$2,0))),"")} -> 20 | C32: =IF(B32="","",IFERROR(VLOOKUP(C31,曜日変換,2,0),"")) | E32: ～ | G32: ( | H32: =F32-D32 -> 0 | I32: ) | J32: ( | L32: ) | M32: ( | N32: =H32-K32 -> 0 | O32: ) | R32: ～ | T32: ( | U32: =S32-Q32 -> 0 | V32: ) | W32: ( | Y32: ) | Z32: ( | AA32: =U32-X32 -> 0 | AB32: )
B33: {=IFERROR(IF(INDEX(リスト!$E$3:$P$33,ROW()-12,MATCH(MONTH($E$5),リスト!$E$2:$P$2,0))="","",INDEX(リスト!$E$3:$P$33,ROW()-12,MATCH(MONTH($E$5),リスト!$E$2:$P$2,0))),"")} -> 21 | C33: =IF(B33="","",IFERROR(VLOOKUP(C32,曜日変換,2,0),"")) | E33: ～ | G33: ( | H33: =F33-D33 -> 0 | I33: ) | J33: ( | L33: ) | M33: ( | N33: =H33-K33 -> 0 | O33: ) | R33: ～ | T33: ( | U33: =S33-Q33 -> 0 | V33: ) | W33: ( | Y33: ) | Z33: ( | AA33: =U33-X33 -> 0 | AB33: )
B34: {=IFERROR(IF(INDEX(リスト!$E$3:$P$33,ROW()-12,MATCH(MONTH($E$5),リスト!$E$2:$P$2,0))="","",INDEX(リスト!$E$3:$P$33,ROW()-12,MATCH(MONTH($E$5),リスト!$E$2:$P$2,0))),"")} -> 22 | C34: =IF(B34="","",IFERROR(VLOOKUP(C33,曜日変換,2,0),"")) | E34: ～ | G34: ( | H34: =F34-D34 -> 0 | I34: ) | J34: ( | L34: ) | M34: ( | N34: =H34-K34 -> 0 | O34: ) | R34: ～ | T34: ( | U34: =S34-Q34 -> 0 | V34: ) | W34: ( | Y34: ) | Z34: ( | AA34: =U34-X34 -> 0 | AB34: )
B35: {=IFERROR(IF(INDEX(リスト!$E$3:$P$33,ROW()-12,MATCH(MONTH($E$5),リスト!$E$2:$P$2,0))="","",INDEX(リスト!$E$3:$P$33,ROW()-12,MATCH(MONTH($E$5),リスト!$E$2:$P$2,0))),"")} -> 23 | C35: =IF(B35="","",IFERROR(VLOOKUP(C34,曜日変換,2,0),"")) | E35: ～ | G35: ( | H35: =F35-D35 -> 0 | I35: ) | J35: ( | L35: ) | M35: ( | N35: =H35-K35 -> 0 | O35: ) | R35: ～ | T35: ( | U35: =S35-Q35 -> 0 | V35: ) | W35: ( | Y35: ) | Z35: ( | AA35: =U35-X35 -> 0 | AB35: )
B36: {=IFERROR(IF(INDEX(リスト!$E$3:$P$33,ROW()-12,MATCH(MONTH($E$5),リスト!$E$2:$P$2,0))="","",INDEX(リスト!$E$3:$P$33,ROW()-12,MATCH(MONTH($E$5),リスト!$E$2:$P$2,0))),"")} -> 24 | C36: =IF(B36="","",IFERROR(VLOOKUP(C35,曜日変換,2,0),"")) | E36: ～ | G36: ( | H36: =F36-D36 -> 0 | I36: ) | J36: ( | L36: ) | M36: ( | N36: =H36-K36 -> 0 | O36: ) | R36: ～ | T36: ( | U36: =S36-Q36 -> 0 | V36: ) | W36: ( | Y36: ) | Z36: ( | AA36: =U36-X36 -> 0 | AB36: )
B37: {=IFERROR(IF(INDEX(リスト!$E$3:$P$33,ROW()-12,MATCH(MONTH($E$5),リスト!$E$2:$P$2,0))="","",INDEX(リスト!$E$3:$P$33,ROW()-12,MATCH(MONTH($E$5),リスト!$E$2:$P$2,0))),"")} -> 25 | C37: =IF(B37="","",IFERROR(VLOOKUP(C36,曜日変換,2,0),"")) | E37: ～ | G37: ( | H37: =F37-D37 -> 0 | I37: ) | J37: ( | L37: ) | M37: ( | N37: =H37-K37 -> 0 | O37: ) | R37: ～ | T37: ( | U37: =S37-Q37 -> 0 | V37: ) | W37: ( | Y37: ) | Z37: ( | AA37: =U37-X37 -> 0 | AB37: )
B38: {=IFERROR(IF(INDEX(リスト!$E$3:$P$33,ROW()-12,MATCH(MONTH($E$5),リスト!$E$2:$P$2,0))="","",INDEX(リスト!$E$3:$P$33,ROW()-12,MATCH(MONTH($E$5),リスト!$E$2:$P$2,0))),"")} -> 26 | C38: =IF(B38="","",IFERROR(VLOOKUP(C37,曜日変換,2,0),"")) | E38: ～ | G38: ( | H38: =F38-D38 -> 0 | I38: ) | J38: ( | L38: ) | M38: ( | N38: =H38-K38 -> 0 | O38: ) | R38: ～ | T38: ( | U38: =S38-Q38 -> 0 | V38: ) | W38: ( | Y38: ) | Z38: ( | AA38: =U38-X38 -> 0 | AB38: )
B39: {=IFERROR(IF(INDEX(リスト!$E$3:$P$33,ROW()-12,MATCH(MONTH($E$5),リスト!$E$2:$P$2,0))="","",INDEX(リスト!$E$3:$P$33,ROW()-12,MATCH(MONTH($E$5),リスト!$E$2:$P$2,0))),"")} -> 27 | C39: =IF(B39="","",IFERROR(VLOOKUP(C38,曜日変換,2,0),"")) | E39: ～ | G39: ( | H39: =F39-D39 -> 0 | I39: ) | J39: ( | L39: ) | M39: ( | N39: =H39-K39 -> 0 | O39: ) | R39: ～ | T39: ( | U39: =S39-Q39 -> 0 | V39: ) | W39: ( | Y39: ) | Z39: ( | AA39: =U39-X39 -> 0 | AB39: )
B40: {=IFERROR(IF(INDEX(リスト!$E$3:$P$33,ROW()-12,MATCH(MONTH($E$5),リスト!$E$2:$P$2,0))="","",INDEX(リスト!$E$3:$P$33,ROW()-12,MATCH(MONTH($E$5),リスト!$E$2:$P$2,0))),"")} -> 28 | C40: =IF(B40="","",IFERROR(VLOOKUP(C39,曜日変換,2,0),"")) | E40: ～ | G40: ( | H40: =F40-D40 -> 0 | I40: ) | J40: ( | L40: ) | M40: ( | N40: =H40-K40 -> 0 | O40: ) | R40: ～ | T40: ( | U40: =S40-Q40 -> 0 | V40: ) | W40: ( | Y40: ) | Z40: ( | AA40: =U40-X40 -> 0 | AB40: )
B41: {=IFERROR(IF(INDEX(リスト!$E$3:$P$33,ROW()-12,MATCH(MONTH($E$5),リスト!$E$2:$P$2,0))="","",INDEX(リスト!$E$3:$P$33,ROW()-12,MATCH(MONTH($E$5),リスト!$E$2:$P$2,0))),"")} -> 29 | C41: =IF(B41="","",IFERROR(VLOOKUP(C40,曜日変換,2,0),"")) | E41: ～ | G41: ( | H41: =F41-D41 -> 0 | I41: ) | J41: ( | L41: ) | M41: ( | N41: =H41-K41 -> 0 | O41: ) | R41: ～ | T41: ( | U41: =S41-Q41 -> 0 | V41: ) | W41: ( | Y41: ) | Z41: ( | AA41: =U41-X41 -> 0 | AB41: )
B42: {=IFERROR(IF(INDEX(リスト!$E$3:$P$33,ROW()-12,MATCH(MONTH($E$5),リスト!$E$2:$P$2,0))="","",INDEX(リスト!$E$3:$P$33,ROW()-12,MATCH(MONTH($E$5),リスト!$E$2:$P$2,0))),"")} -> 30 | C42: =IF(B42="","",IFERROR(VLOOKUP(C41,曜日変換,2,0),"")) | E42: ～ | G42: ( | H42: =F42-D42 -> 0 | I42: ) | J42: ( | L42: ) | M42: ( | N42: =H42-K42 -> 0 | O42: ) | R42: ～ | T42: ( | U42: =S42-Q42 -> 0 | V42: ) | W42: ( | Y42: ) | Z42: ( | AA42: =U42-X42 -> 0 | AB42: )
B43: {=IFERROR(IF(INDEX(リスト!$E$3:$P$33,ROW()-12,MATCH(MONTH($E$5),リスト!$E$2:$P$2,0))="","",INDEX(リスト!$E$3:$P$33,ROW()-12,MATCH(MONTH($E$5),リスト!$E$2:$P$2,0))),"")} -> 31 | C43: =IF(B43="","",IFERROR(VLOOKUP(C42,曜日変換,2,0),"")) | E43: ～ | G43: ( | H43: =F43-D43 -> 0 | I43: ) | J43: ( | L43: ) | M43: ( | N43: =H43-K43 -> 0 | O43: ) | R43: ～ | T43: ( | U43: =S43-Q43 -> 0 | V43: ) | W43: ( | Y43: ) | Z43: ( | AA43: =U43-X43 -> 0 | AB43: )
D44: 合計 | F44: 合計 | G44: ( | H44: =SUM(H13:H43) -> 0 | I44: ) | J44: ( | K44: 合計 | L44: ) | M44: ( | N44: =SUM(N13:N43) -> 0 | O44: ) | Q44: 合計 | S44: 合計 | T44: ( | U44: =SUM(U13:U43) -> 0 | V44: ) | W44: ( | X44: 合計 | Y44: ) | Z44: ( | AA44: =SUM(AA13:AA43) -> 0 | AB44: )
D45: 合計勤務日数（⑦） | N45: =COUNTIF(N13:N43,"<>0") -> 0 | P45: 日 | Q45: 合計（時間換算 ※小数点第三位以下四捨五入） | AA45: =AA44*24 -> 0 | AC45: 時間
D46: 合計（時間換算 ※小数点第三位以下四捨五入） | N46: =N44*24 -> 0 | P46: 時間
B49: 時間内労働時間のうち、補助事業従事時間（①） | N49: =N46 -> 0 | P49: 時間 | Q49: 時間外労働時間のうち、補助事業従事時間（④） | AA49: =AA45 -> 0 | AC49: 時間
B50: 時間内労働時間 単価（②） | P50: =IF(O7="時給","円/時","円/日") -> 円/時 | Q50: 時間外労働時間 単価（⑤） | AC50: 円/時
B51: =IF(O7="時給","時間内労働時間に係る補助人件費（円未満四捨五入）（③=①×②）","時間内労働時間に係る補助人件費（円未満四捨五入）（③=②×⑦）") -> 時間内労働時間に係る補助人件費（円未満四捨五入）（③=①×②） | N51: =IF(COUNTIF(B51,"*⑦*"),ROUNDDOWN(N50*N45,0),ROUNDDOWN(N49*N50,0)) -> 0 | P51: 円 | Q51: 時間外労働時間に係る補助人件費（円未満四捨五入）（⑥=④×⑤） | AA51: =ROUNDDOWN(AA49*AA50,0) -> 0 | AC51: 円
K52: =IF(O7="","支払い基準（O6セル）を選択してください","") | Q52: 時間内+時間外 補助人件費合計（③＋⑥） | AA52: =N51+AA51 -> 0 | AC52: 円
B54: 備考（「時間外労働時間」を記入した場合、当該日に所定時間外労働が必要な理由を説明する）

Sheet 業務日誌_記入例
B2: 様式16（業務日誌） | L2: =IF(E5="","○年 ○月分 業務日誌（補助事業従事簿）",YEAR(E5)&"年 "&MONTH(E5)&"月分 業務日誌（補助事業従事簿）") -> 2026年 8月分 業務日誌（補助事業従事簿）
B4: 補助対象事業名 | E4: XX周遊事業 | Y4: 計画申請番号 | AC4: {=IF(AND(LEN(AC5)=14,LEFT(AC5,2)="OT",MID(AC5,3,2)="08",MID(AC5,5,1)="K",SUMPRODUCT(--ISNUMBER(FIND(MID(AC5,ROW($6:$14),1),"0123456789")))=9),LEFT(AC5,4)&"P"&MID(AC5,6,5)&"0000","交付申請番号を正しくご入力ください ※半角数字・大文字小文字もご注意ください")} -> OT08P123450000
B5: 期間 | D5: （自） | E5: 46235 | N5: 所属 | Y5: 交付申請番号 | AC5: OT08K123450001
D6: （至） | E6: =IFERROR(VLOOKUP(E5,期間,2,0),"") -> 46265 | N6: 氏名 | Y6: 補助対象事業者名
N7: 支払い基準 | O7: 時給 | Y7: 管理責任者所属
AA8: 氏名
B10: 日 | C10: 曜 | D10: 時間内労働時間 | Q10: 時間外労働時間
D11: 時間内労働時間 | J11: うち休憩時間等 | M11: 補助事業従事時間 | N11: 正味時間 | P11: 作業内容、備考等 | Q11: 時間外労働時間 | W11: うち休憩時間等 | Z11: 補助事業従事時間 | AA11: 正味時間 | AC11: 作業内容、備考等 | AF11: 「作業内容」に記載した 略号の説明
B12: 付 | C12: 日 | D12: 自（時間：分） | F12: 至（時間：分） | G12: ( | H12: 時間：分 | I12: ) | J12: ( | K12: 時間：分 | L12: ) | M12: ( | N12: 時間：分 | O12: ) | Q12: 自（時間：分） | S12: 至（時間：分） | T12: ( | U12: 時間：分 | V12: ) | W12: ( | X12: 時間：分 | Y12: ) | Z12: ( | AA12: 時間：分 | AB12: )
B13: 1 | C13: =IFERROR(VLOOKUP(E5,期間,3,0),"") -> 土 | D13: 0.39583333 | E13: ～ | F13: 0.72916667 | G13: ( | H13: =F13-D13 -> 0.33333333 | I13: ) | J13: ( | K13: 0.041666667 | L13: ) | M13: ( | N13: =H13-K13 -> 0.29166667 | O13: ) | P13: 12：00～13：00 休憩 | R13: ～ | T13: ( | U13: =S13-Q13 -> 0 | V13: ) | W13: ( | Y13: ) | Z13: ( | AA13: =U13-X13 -> 0 | AB13: ) | AE13: A | AF13: 他業務に従事
B14: 2 | C14: =IFERROR(VLOOKUP(C13,曜日変換,2,0),"") -> 日 | D14: 0.39583333 | E14: ～ | F14: 0.72916667 | G14: ( | H14: =F14-D14 -> 0.33333333 | I14: ) | J14: ( | K14: 0.041666667 | L14: ) | M14: ( | N14: =H14-K14 -> 0.29166667 | O14: ) | P14: 12：00～13：00 休憩 | R14: ～ | T14: ( | U14: =S14-Q14 -> 0 | V14: ) | W14: ( | Y14: ) | Z14: ( | AA14: =U14-X14 -> 0 | AB14: )
B15: 3 | C15: =IFERROR(VLOOKUP(C14,曜日変換,2,0),"") -> 月 | D15: 0.39583333 | E15: ～ | F15: 0.72916667 | G15: ( | H15: =F15-D15 -> 0.33333333 | I15: ) | J15: ( | K15: 0.041666667 | L15: ) | M15: ( | N15: =H15-K15 -> 0.29166667 | O15: ) | P15: 12：00～13：00 休憩 | R15: ～ | T15: ( | U15: =S15-Q15 -> 0 | V15: ) | W15: ( | Y15: ) | Z15: ( | AA15: =U15-X15 -> 0 | AB15: ) | AE15: B
B16: 4 | C16: =IFERROR(VLOOKUP(C15,曜日変換,2,0),"") -> 火 | D16: 0.39583333 | E16: ～ | F16: 0.72916667 | G16: ( | H16: =F16-D16 -> 0.33333333 | I16: ) | J16: ( | K16: 0.041666667 | L16: ) | M16: ( | N16: =H16-K16 -> 0.29166667 | O16: ) | P16: 12：00～13：00 休憩 | R16: ～ | T16: ( | U16: =S16-Q16 -> 0 | V16: ) | W16: ( | Y16: ) | Z16: ( | AA16: =U16-X16 -> 0 | AB16: )
B17: 5 | C17: =IFERROR(VLOOKUP(C16,曜日変換,2,0),"") -> 水 | D17: 0.39583333 | E17: ～ | F17: 0.72916667 | G17: ( | H17: =F17-D17 -> 0.33333333 | I17: ) | J17: ( | K17: 0.041666667 | L17: ) | M17: ( | N17: =H17-K17 -> 0.29166667 | O17: ) | P17: 12：00～13：00 休憩 | R17: ～ | T17: ( | U17: =S17-Q17 -> 0 | V17: ) | W17: ( | Y17: ) | Z17: ( | AA17: =U17-X17 -> 0 | AB17: ) | AE17: C
B18: 6 | C18: =IFERROR(VLOOKUP(C17,曜日変換,2,0),"") -> 木 | E18: ～ | G18: ( | H18: =F18-D18 -> 0 | I18: ) | J18: ( | L18: ) | M18: ( | N18: =H18-K18 -> 0 | O18: ) | R18: ～ | T18: ( | U18: =S18-Q18 -> 0 | V18: ) | W18: ( | Y18: ) | Z18: ( | AA18: =U18-X18 -> 0 | AB18: )
B19: 7 | C19: =IFERROR(VLOOKUP(C18,曜日変換,2,0),"") -> 金 | E19: ～ | G19: ( | H19: =F19-D19 -> 0 | I19: ) | J19: ( | L19: ) | M19: ( | N19: =H19-K19 -> 0 | O19: ) | R19: ～ | T19: ( | U19: =S19-Q19 -> 0 | V19: ) | W19: ( | Y19: ) | Z19: ( | AA19: =U19-X19 -> 0 | AB19: ) | AE19: D
B20: 8 | C20: =IFERROR(VLOOKUP(C19,曜日変換,2,0),"") -> 土 | D20: 0.39583333 | E20: ～ | F20: 0.72916667 | G20: ( | H20: =F20-D20 -> 0.33333333 | I20: ) | J20: ( | K20: 0.041666667 | L20: ) | M20: ( | N20: =H20-K20 -> 0.29166667 | O20: ) | P20: 12：00～13：00 休憩 | R20: ～ | T20: ( | U20: =S20-Q20 -> 0 | V20: ) | W20: ( | Y20: ) | Z20: ( | AA20: =U20-X20 -> 0 | AB20: )
B21: 9 | C21: =IFERROR(VLOOKUP(C20,曜日変換,2,0),"") -> 日 | D21: 0.39583333 | E21: ～ | F21: 0.72916667 | G21: ( | H21: =F21-D21 -> 0.33333333 | I21: ) | J21: ( | K21: 0.041666667 | L21: ) | M21: ( | N21: =H21-K21 -> 0.29166667 | O21: ) | P21: 12：00～13：00 休憩 | R21: ～ | T21: ( | U21: =S21-Q21 -> 0 | V21: ) | W21: ( | Y21: ) | Z21: ( | AA21: =U21-X21 -> 0 | AB21: ) | AE21: E
B22: 10 | C22: =IFERROR(VLOOKUP(C21,曜日変換,2,0),"") -> 月 | D22: 0.39583333 | E22: ～ | F22: 0.72916667 | G22: ( | H22: =F22-D22 -> 0.33333333 | I22: ) | J22: ( | K22: 0.041666667 | L22: ) | M22: ( | N22: =H22-K22 -> 0.29166667 | O22: ) | P22: 12：00～13：00 休憩 | R22: ～ | T22: ( | U22: =S22-Q22 -> 0 | V22: ) | W22: ( | Y22: ) | Z22: ( | AA22: =U22-X22 -> 0 | AB22: )
B23: 11 | C23: =IFERROR(VLOOKUP(C22,曜日変換,2,0),"") -> 火 | D23: 0.39583333 | E23: ～ | F23: 0.85416667 | G23: ( | H23: =F23-D23 -> 0.45833333 | I23: ) | J23: ( | K23: 0.041666667 | L23: ) | M23: ( | N23: =H23-K23 -> 0.41666667 | O23: ) | P23: 12：00～13：00 休憩 | Q23: 0.72916667 | R23: ～ | S23: 0.85416667 | T23: ( | U23: =S23-Q23 -> 0.125 | V23: ) | W23: ( | X23: 0.041666667 | Y23: ) | Z23: ( | AA23: =U23-X23 -> 0.083333333 | AB23: ) | AC23: 18：00～19：00 休憩 | AE23: F
B24: 12 | C24: =IFERROR(VLOOKUP(C23,曜日変換,2,0),"") -> 水 | D24: 0.39583333 | E24: ～ | F24: 0.72916667 | G24: ( | H24: =F24-D24 -> 0.33333333 | I24: ) | J24: ( | K24: 0.041666667 | L24: ) | M24: ( | N24: =H24-K24 -> 0.29166667 | O24: ) | P24: 12：00～13：00 休憩 | R24: ～ | T24: ( | U24: =S24-Q24 -> 0 | V24: ) | W24: ( | Y24: ) | Z24: ( | AA24: =U24-X24 -> 0 | AB24: )
B25: 13 | C25: =IFERROR(VLOOKUP(C24,曜日変換,2,0),"") -> 木 | E25: ～ | G25: ( | H25: =F25-D25 -> 0 | I25: ) | J25: ( | L25: ) | M25: ( | N25: =H25-K25 -> 0 | O25: ) | R25: ～ | T25: ( | U25: =S25-Q25 -> 0 | V25: ) | W25: ( | Y25: ) | Z25: ( | AA25: =U25-X25 -> 0 | AB25: ) | AE25: G
B26: 14 | C26: =IFERROR(VLOOKUP(C25,曜日変換,2,0),"") -> 金 | E26: ～ | G26: ( | H26: =F26-D26 -> 0 | I26: ) | J26: ( | L26: ) | M26: ( | N26: =H26-K26 -> 0 | O26: ) | R26: ～ | T26: ( | U26: =S26-Q26 -> 0 | V26: ) | W26: ( | Y26: ) | Z26: ( | AA26: =U26-X26 -> 0 | AB26: )
B27: 15 | C27: =IFERROR(VLOOKUP(C26,曜日変換,2,0),"") -> 土 | D27: 0.39583333 | E27: ～ | F27: 0.72916667 | G27: ( | H27: =F27-D27 -> 0.33333333 | I27: ) | J27: ( | K27: 0.041666667 | L27: ) | M27: ( | N27: =H27-K27 -> 0.29166667 | O27: ) | P27: 12：00～13：00 休憩 | R27: ～ | T27: ( | U27: =S27-Q27 -> 0 | V27: ) | W27: ( | Y27: ) | Z27: ( | AA27: =U27-X27 -> 0 | AB27: ) | AE27: H
B28: 16 | C28: =IFERROR(VLOOKUP(C27,曜日変換,2,0),"") -> 日 | D28: 0.39583333 | E28: ～ | F28: 0.72916667 | G28: ( | H28: =F28-D28 -> 0.33333333 | I28: ) | J28: ( | K28: 0.041666667 | L28: ) | M28: ( | N28: =H28-K28 -> 0.29166667 | O28: ) | P28: 12：00～13：00 休憩 | R28: ～ | T28: ( | U28: =S28-Q28 -> 0 | V28: ) | W28: ( | Y28: ) | Z28: ( | AA28: =U28-X28 -> 0 | AB28: )
B29: 17 | C29: =IFERROR(VLOOKUP(C28,曜日変換,2,0),"") -> 月 | D29: 0.39583333 | E29: ～ | F29: 0.72916667 | G29: ( | H29: =F29-D29 -> 0.33333333 | I29: ) | J29: ( | K29: 0.041666667 | L29: ) | M29: ( | N29: =H29-K29 -> 0.29166667 | O29: ) | P29: 12：00～13：00 休憩 | R29: ～ | T29: ( | U29: =S29-Q29 -> 0 | V29: ) | W29: ( | Y29: ) | Z29: ( | AA29: =U29-X29 -> 0 | AB29: ) | AE29: I
B30: 18 | C30: =IFERROR(VLOOKUP(C29,曜日変換,2,0),"") -> 火 | D30: 0.39583333 | E30: ～ | F30: 0.72916667 | G30: ( | H30: =F30-D30 -> 0.33333333 | I30: ) | J30: ( | K30: 0.041666667 | L30: ) | M30: ( | N30: =H30-K30 -> 0.29166667 | O30: ) | P30: 12：00～13：00 休憩 | R30: ～ | T30: ( | U30: =S30-Q30 -> 0 | V30: ) | W30: ( | Y30: ) | Z30: ( | AA30: =U30-X30 -> 0 | AB30: )
B31: 19 | C31: =IFERROR(VLOOKUP(C30,曜日変換,2,0),"") -> 水 | D31: 0.39583333 | E31: ～ | F31: 1.0625 | G31: ( | H31: =F31-D31 -> 0.66666667 | I31: ) | J31: ( | K31: 0.041666667 | L31: ) | M31: ( | N31: =H31-K31 -> 0.625 | O31: ) | P31: 12：00～13：00 休憩 | Q31: 0.72916667 | R31: ～ | S31: 1.0625 | T31: ( | U31: =S31-Q31 -> 0.33333333 | V31: ) | W31: ( | X31: 0.083333333 | Y31: ) | Z31: ( | AA31: =U31-X31 -> 0.25 | AB31: ) | AC31: 19：00～20：00 A | AE31: J
B32: 20 | C32: =IFERROR(VLOOKUP(C31,曜日変換,2,0),"") -> 木 | E32: ～ | G32: ( | H32: =F32-D32 -> 0 | I32: ) | J32: ( | L32: ) | M32: ( | N32: =H32-K32 -> 0 | O32: ) | R32: ～ | T32: ( | U32: =S32-Q32 -> 0 | V32: ) | W32: ( | Y32: ) | Z32: ( | AA32: =U32-X32 -> 0 | AB32: )
B33: 21 | C33: =IFERROR(VLOOKUP(C32,曜日変換,2,0),"") -> 金 | E33: ～ | G33: ( | H33: =F33-D33 -> 0 | I33: ) | J33: ( | L33: ) | M33: ( | N33: =H33-K33 -> 0 | O33: ) | R33: ～ | T33: ( | U33: =S33-Q33 -> 0 | V33: ) | W33: ( | Y33: ) | Z33: ( | AA33: =U33-X33 -> 0 | AB33: )
B34: 22 | C34: =IFERROR(VLOOKUP(C33,曜日変換,2,0),"") -> 土 | D34: 0.39583333 | E34: ～ | F34: 0.72916667 | G34: ( | H34: =F34-D34 -> 0.33333333 | I34: ) | J34: ( | K34: 0.041666667 | L34: ) | M34: ( | N34: =H34-K34 -> 0.29166667 | O34: ) | P34: 12：00～13：00 休憩 | R34: ～ | T34: ( | U34: =S34-Q34 -> 0 | V34: ) | W34: ( | Y34: ) | Z34: ( | AA34: =U34-X34 -> 0 | AB34: )
B35: 23 | C35: =IFERROR(VLOOKUP(C34,曜日変換,2,0),"") -> 日 | D35: 0.39583333 | E35: ～ | F35: 0.72916667 | G35: ( | H35: =F35-D35 -> 0.33333333 | I35: ) | J35: ( | K35: 0.041666667 | L35: ) | M35: ( | N35: =H35-K35 -> 0.29166667 | O35: ) | P35: 12：00～13：00 休憩 | R35: ～ | T35: ( | U35: =S35-Q35 -> 0 | V35: ) | W35: ( | Y35: ) | Z35: ( | AA35: =U35-X35 -> 0 | AB35: )
B36: 24 | C36: =IFERROR(VLOOKUP(C35,曜日変換,2,0),"") -> 月 | D36: 0.39583333 | E36: ～ | F36: 0.72916667 | G36: ( | H36: =F36-D36 -> 0.33333333 | I36: ) | J36: ( | K36: 0.041666667 | L36: ) | M36: ( | N36: =H36-K36 -> 0.29166667 | O36: ) | P36: 12：00～13：00 休憩 | R36: ～ | T36: ( | U36: =S36-Q36 -> 0 | V36: ) | W36: ( | Y36: ) | Z36: ( | AA36: =U36-X36 -> 0 | AB36: )
B37: 25 | C37: =IFERROR(VLOOKUP(C36,曜日変換,2,0),"") -> 火 | D37: 0.39583333 | E37: ～ | F37: 0.72916667 | G37: ( | H37: =F37-D37 -> 0.33333333 | I37: ) | J37: ( | K37: 0.041666667 | L37: ) | M37: ( | N37: =H37-K37 -> 0.29166667 | O37: ) | P37: 12：00～13：00 休憩 | R37: ～ | T37: ( | U37: =S37-Q37 -> 0 | V37: ) | W37: ( | Y37: ) | Z37: ( | AA37: =U37-X37 -> 0 | AB37: )
B38: 26 | C38: =IFERROR(VLOOKUP(C37,曜日変換,2,0),"") -> 水 | D38: 0.39583333 | E38: ～ | F38: 0.72916667 | G38: ( | H38: =F38-D38 -> 0.33333333 | I38: ) | J38: ( | K38: 0.041666667 | L38: ) | M38: ( | N38: =H38-K38 -> 0.29166667 | O38: ) | P38: 12：00～13：00 休憩 | R38: ～ | T38: ( | U38: =S38-Q38 -> 0 | V38: ) | W38: ( | Y38: ) | Z38: ( | AA38: =U38-X38 -> 0 | AB38: )
B39: 27 | C39: =IFERROR(VLOOKUP(C38,曜日変換,2,0),"") -> 木 | E39: ～ | G39: ( | H39: =F39-D39 -> 0 | I39: ) | J39: ( | L39: ) | M39: ( | N39: =H39-K39 -> 0 | O39: ) | R39: ～ | T39: ( | U39: =S39-Q39 -> 0 | V39: ) | W39: ( | Y39: ) | Z39: ( | AA39: =U39-X39 -> 0 | AB39: )
B40: 28 | C40: =IFERROR(VLOOKUP(C39,曜日変換,2,0),"") -> 金 | E40: ～ | G40: ( | H40: =F40-D40 -> 0 | I40: ) | J40: ( | L40: ) | M40: ( | N40: =H40-K40 -> 0 | O40: ) | R40: ～ | T40: ( | U40: =S40-Q40 -> 0 | V40: ) | W40: ( | Y40: ) | Z40: ( | AA40: =U40-X40 -> 0 | AB40: )
B41: 29 | C41: =IFERROR(VLOOKUP(C40,曜日変換,2,0),"") -> 土 | D41: 0.39583333 | E41: ～ | F41: 0.72916667 | G41: ( | H41: =F41-D41 -> 0.33333333 | I41: ) | J41: ( | K41: 0.041666667 | L41: ) | M41: ( | N41: =H41-K41 -> 0.29166667 | O41: ) | P41: 12：00～13：00 休憩 | R41: ～ | T41: ( | U41: =S41-Q41 -> 0 | V41: ) | W41: ( | Y41: ) | Z41: ( | AA41: =U41-X41 -> 0 | AB41: )
B42: 30 | C42: =IFERROR(VLOOKUP(C41,曜日変換,2,0),"") -> 日 | D42: 0.39583333 | E42: ～ | F42: 0.72916667 | G42: ( | H42: =F42-D42 -> 0.33333333 | I42: ) | J42: ( | K42: 0.041666667 | L42: ) | M42: ( | N42: =H42-K42 -> 0.29166667 | O42: ) | P42: 12：00～13：00 休憩 | R42: ～ | T42: ( | U42: =S42-Q42 -> 0 | V42: ) | W42: ( | Y42: ) | Z42: ( | AA42: =U42-X42 -> 0 | AB42: )
B43: 31 | C43: =IFERROR(VLOOKUP(C42,曜日変換,2,0),"") -> 月 | D43: 0.39583333 | E43: ～ | F43: 0.72916667 | G43: ( | H43: =F43-D43 -> 0.33333333 | I43: ) | J43: ( | K43: 0.041666667 | L43: ) | M43: ( | N43: =H43-K43 -> 0.29166667 | O43: ) | P43: 12：00～13：00 休憩 | R43: ～ | T43: ( | U43: =S43-Q43 -> 0 | V43: ) | W43: ( | Y43: ) | Z43: ( | AA43: =U43-X43 -> 0 | AB43: )
D44: 合計 | F44: 合計 | G44: ( | H44: =SUM(H13:H43) -> 8.125 | I44: ) | J44: ( | K44: 合計 | L44: ) | M44: ( | N44: =SUM(N13:N43) -> 7.1666667 | O44: ) | Q44: 合計 | S44: 合計 | T44: ( | U44: =SUM(U13:U43) -> 0.45833333 | V44: ) | W44: ( | X44: 合計 | Y44: ) | Z44: ( | AA44: =SUM(AA13:AA43) -> 0.33333333 | AB44: )
D45: 合計勤務日数（⑦） | N45: =COUNTIF(N13:N43,"<>0") -> 23 | P45: 日 | Q45: 合計（時間換算 ※小数点第三位以下四捨五入） | AA45: =AA44*24 -> 8 | AC45: 時間
D46: 合計（時間換算 ※小数点第三位以下四捨五入） | N46: =N44*24 -> 172 | P46: 時間
B49: 時間内労働時間のうち、補助事業従事時間（①） | N49: =N46 -> 172 | P49: 時間 | Q49: 時間外労働時間のうち、補助事業従事時間（④） | AA49: =AA45 -> 8 | AC49: 時間
B50: 時間内労働時間 単価（②） | N50: 1400 | P50: =IF(O7="時給","円/時","円/日") -> 円/時 | Q50: 時間外労働時間 単価（⑤） | AA50: 1750 | AC50: 円/時
B51: =IF(O7="時給","時間内労働時間に係る補助人件費（円未満四捨五入）（③=①×②）","時間内労働時間に係る補助人件費（円未満四捨五入）（③=②×⑦）") -> 時間内労働時間に係る補助人件費（円未満四捨五入）（③=①×②） | N51: =IF(COUNTIF(B51,"*⑦*"),ROUNDDOWN(N50*N45,0),ROUNDDOWN(N49*N50,0)) -> 240800 | P51: 円 | Q51: 時間外労働時間に係る補助人件費（円未満四捨五入）（⑥=④×⑤） | AA51: =ROUNDDOWN(AA49*AA50,0) -> 14000 | AC51: 円
K52: =IF(O7="","支払い基準（O6セル）を選択してください","") | Q52: 時間内+時間外 補助人件費合計（③＋⑥） | AA52: =N51+AA51 -> 254800 | AC52: 円
B54: 備考（「時間外労働時間」を記入した場合、当該日に所定時間外労働が必要な理由を説明する）
