Workbook
Name 類型: 参照リスト!$A$3:$A$4
Name 類型: 参照リスト!$A$3:$A$4
Name 類型: 参照リスト!$A$3:$A$4

Sheet 参照リスト
A3: ①地域一体型
A4: ②一般型

Sheet 貸切バス・タクシー
A1: =乗合!A1 -> 様式21_実証運行に係る実績報告書
A2: 実証運行費の算出根拠（貸切バス・タクシー）
J3: 計画申請番号 | K3: {=IF(AND(LEN(K4)=14,LEFT(K4,2)="OT",MID(K4,3,2)="08",MID(K4,5,1)="K",SUMPRODUCT(--ISNUMBER(FIND(MID(K4,ROW($6:$14),1),"0123456789")))=9),LEFT(K4,4)&"P"&MID(K4,6,5)&"0000","交付申請番号を正しくご入力ください ※半角数字・大文字小文字もご注意ください")} -> 交付申請番号を正しくご入力ください ※半角数字・大文字小文字もご注意ください
J4: 交付申請番号
B6: 補助対象事業者名 | F6: 補助申請額計 （実証運行運賃＋その他諸経費） | J6: （参考）実際の運行に関する計算
B8: 補助対象事業名 | F8: 補助金適用分運賃(C) | I8: =L36 -> 0 | J8: 運行にあたる経費(A+B) | M8: =I36+I50 -> 0
F9: その他諸経費(B) | I9: =I50 -> 0 | J9: 実績収入額計(D+E) | M9: =M36+M50 -> 0
B10: 類型 | D10: 補助率 | F10: 合計（運賃＋その他諸経費） | I10: =I8+I9 -> 0 | J10: 最大補助見込み額(F) | M10: =IF(ISTEXT(I11),0,I11) -> 0 | N10: =IF(M11="","",IF(M8=M11,"【OK】収益納付についてはシステム上で計算いたします。収益納付が見込まれる場合にも、システム上には運行にあたる経費(A＋B)をママご入力いただき、実績収入額計(D+E)も必要に応じご入力ください",IF(M11<0,"道路運送法10条で定められている通り、運賃の割り戻しは禁止です。（G）がマイナスの場合、事務局より別途ご連絡させていただく可能性がございます。","【OK】収益納付についてはシステム上で計算いたします。収益納付が見込まれる場合にも、システム上には運行にあたる経費(A＋B)をママご入力いただき、実績収入額計(D+E)も必要に応じご入力ください"))) -> 【OK】収益納付についてはシステム上で計算いたします。収益納付が見込まれる場合にも、システム上には運行にあたる経費(A＋B)をママご入力いただき、実績収入額計(D+E)も必要に応じご入力ください
D11: =IF(B11="","自動反映",IF(B11="②一般型","1/2","2/3")) -> 自動反映 | F11: F.補助申請見込み額 | I11: =IF(B11="","類型を選択してください",IF(AND(D11="2/3",I10>300000000),200000000,IF(D11="2/3",ROUNDDOWN(I10*2/3,0),IF(AND(D11="1/2",I10>100000000),50000000,ROUNDDOWN(I10*1/2,0))))) -> 類型を選択してください | J11: 実績収入額＋補助見込み額-運行経費(A+B)※G | M11: =IF(M10="","",M9+M10)-M8 -> 0
A13: 項番 | B13: 運行経費【実施運賃を適用】 | J13: 補助金対象分【公示運賃額（新下限額）を適用】 | M13: 運賃収入
B14: 運賃名目(運行経路等) | C14: 実績 運行回数 | D14: キロ当たり単価での運行時 | G14: 時間当たり単価での運行時 | I14: A.合計（円） | J14: ★最低運賃（円） ※キロ当たり | K14: ★最低運賃（円） ※時間あたり | L14: C.合計（円） | M14: D.実績収入額（円）
D15: キロ当たり単価 | F15: 1運行当たりの キロ数 | G15: 時間当たり単価 | H15: 1運行当たりの 時間数
A16: ① | I16: =ROUNDDOWN(C16*D16*F16,0)+ROUNDDOWN(C16*G16*H16,0) -> 0 | L16: =ROUNDDOWN(C16*J16*F16,0)+ROUNDDOWN(C16*K16*H16,0) -> 0
A17: ② | I17: =ROUNDDOWN(C17*D17*F17,0)+ROUNDDOWN(C17*G17*H17,0) -> 0 | L17: =ROUNDDOWN(C17*J17*F17,0)+ROUNDDOWN(C17*K17*H17,0) -> 0
A18: ③ | I18: =ROUNDDOWN(C18*D18*F18,0)+ROUNDDOWN(C18*G18*H18,0) -> 0 | L18: =ROUNDDOWN(C18*J18*F18,0)+ROUNDDOWN(C18*K18*H18,0) -> 0
A19: ④ | I19: =ROUNDDOWN(C19*D19*F19,0)+ROUNDDOWN(C19*G19*H19,0) -> 0 | L19: =ROUNDDOWN(C19*J19*F19,0)+ROUNDDOWN(C19*K19*H19,0) -> 0
A20: ⑤ | I20: =ROUNDDOWN(C20*D20*F20,0)+ROUNDDOWN(C20*G20*H20,0) -> 0 | L20: =ROUNDDOWN(C20*J20*F20,0)+ROUNDDOWN(C20*K20*H20,0) -> 0
A21: ⑥ | I21: =ROUNDDOWN(C21*D21*F21,0)+ROUNDDOWN(C21*G21*H21,0) -> 0 | L21: =ROUNDDOWN(C21*J21*F21,0)+ROUNDDOWN(C21*K21*H21,0) -> 0
A22: ⑦ | I22: =ROUNDDOWN(C22*D22*F22,0)+ROUNDDOWN(C22*G22*H22,0) -> 0 | L22: =ROUNDDOWN(C22*J22*F22,0)+ROUNDDOWN(C22*K22*H22,0) -> 0
A23: ⑧ | I23: =ROUNDDOWN(C23*D23*F23,0)+ROUNDDOWN(C23*G23*H23,0) -> 0 | L23: =ROUNDDOWN(C23*J23*F23,0)+ROUNDDOWN(C23*K23*H23,0) -> 0
A24: ⑨ | I24: =ROUNDDOWN(C24*D24*F24,0)+ROUNDDOWN(C24*G24*H24,0) -> 0 | L24: =ROUNDDOWN(C24*J24*F24,0)+ROUNDDOWN(C24*K24*H24,0) -> 0
A25: ⑩ | I25: =ROUNDDOWN(C25*D25*F25,0)+ROUNDDOWN(C25*G25*H25,0) -> 0 | L25: =ROUNDDOWN(C25*J25*F25,0)+ROUNDDOWN(C25*K25*H25,0) -> 0
A26: ⑪ | I26: =ROUNDDOWN(C26*D26*F26,0)+ROUNDDOWN(C26*G26*H26,0) -> 0 | L26: =ROUNDDOWN(C26*J26*F26,0)+ROUNDDOWN(C26*K26*H26,0) -> 0
A27: ⑫ | I27: =ROUNDDOWN(C27*D27*F27,0)+ROUNDDOWN(C27*G27*H27,0) -> 0 | L27: =ROUNDDOWN(C27*J27*F27,0)+ROUNDDOWN(C27*K27*H27,0) -> 0
... A35: ⑳ | I35: =ROUNDDOWN(C35*D35*F35,0)+ROUNDDOWN(C35*G35*H35,0) -> 0 | L35: =ROUNDDOWN(C35*J35*F35,0)+ROUNDDOWN(C35*K35*H35,0) -> 0
A36: 計 | F36: =SUM(F16:F35) -> 0 | H36: =SUM(H16:H35) -> 0 | I36: =SUM(I16:I35) -> 0 | L36: =SUM(L16:L35) -> 0 | M36: =SUM(M16:M35) -> 0
B38: その他実証運行に係る諸経費（高速料金、駐車料金等、運行に係る部分を想定） | J38: その他実証運行による収受額
A39: 項番 | B39: 経費名目 | F39: 運賃名目で該当の項番を入力してください | I39: B.経費額（円） | J39: 収受額名目 | M39: E.実績収入額 （円）
A40: 1
A41: 2
A42: 3
A43: 4
A44: 5
A45: 6
A46: 7
A47: 8
A48: 9
A49: 10
A50: 計 | I50: =SUM(I40:I49) -> 0 | J50: 計 | M50: =SUM(M40:M49) -> 0

Sheet 乗合
A1: 様式21_実証運行に係る実績報告書
A2: 実証運行費の算出根拠（乗合）
AB3: ※黄色のセルに入力してください
W4: 計画申請番号 | AB4: {=IF(AND(LEN(AB5)=14,LEFT(AB5,2)="OT",MID(AB5,3,2)="08",MID(AB5,5,1)="K",SUMPRODUCT(--ISNUMBER(FIND(MID(AB5,ROW($6:$14),1),"0123456789")))=9),LEFT(AB5,4)&"P"&MID(AB5,6,5)&"0000","交付申請番号を正しくご入力ください ※半角数字・大文字小文字もご注意ください")} -> 交付申請番号を正しくご入力ください ※半角数字・大文字小文字もご注意ください
W5: 交付申請番号
W6: 補助対象事業者名
W7: 補助対象事業名
W8: 類型 | AH8: 補助率 | AK8: =IF(AB8="","自動反映",IF(AB8="②一般型","1/2","2/3")) -> 自動反映
A10: １．前年度の事業損益明細表における実績
A11: 補助対象期間の運行費（イ） | L11: 千円
A12: 年間実車走行実績（ロ） | L12: ㎞
A13: キロ当たり運行費用（ハ） （ハ＝イ÷ロ） | H13: =IFERROR((H11/H12)*1000,"") | L13: 円
A15: ２．実証運行費の算出
A17: ＃ | B17: 運行系統名 | D17: 運行系統 | H17: キロ程 （ニ） | J17: 実証運行 実施日数 （ホ） | K17: 1日あたり 運行回数（へ） | M17: 計画実車走行キロ（ト） （ト＝ニ×ヘ×２） | Q17: 実証運行期間の 計画実車走行キロ（チ） （チ＝ト×ホ） | U17: 実証運行費（リ） （リ＝ハ×チ） | Y17: 実績設定運賃収入 （ヌ） | AC17: 実証運行期間中の 実績輸送人員 （ル） | AG17: 実証運行期間中の その他収入（ヲ） | AK17: 実証運行期間中の実績収入（ワ） （ワ＝ヌ×ル＋ヲ）
D18: 起点 | E18: 主な経由地 | G18: 終点
A19: 1 | I19: km | L19: 回 | M19: =H19*K19*2 -> 0 | P19: ㎞ | Q19: =M19*J19 -> 0 | T19: ㎞ | U19: =IFERROR(ROUNDDOWN(($H$13*Q19),0),0) -> 0 | X19: 円 | AB19: 円 | AF19: 人 | AJ19: 円 | AK19: =IFERROR(ROUNDDOWN((Y19*AC19),0)," ")+AG19 -> 0 | AN19: 円
A20: 2 | I20: km | L20: 回 | M20: =H20*K20*2 -> 0 | P20: ㎞ | Q20: =M20*J20 -> 0 | T20: ㎞ | U20: =IFERROR(ROUNDDOWN(($H$13*Q20),0),0) -> 0 | X20: 円 | AB20: 円 | AF20: 人 | AJ20: 円 | AK20: =IFERROR(ROUNDDOWN((Y20*AC20),0)," ")+AG20 -> 0 | AN20: 円
A21: 3 | I21: km | L21: 回 | M21: =H21*K21*2 -> 0 | P21: ㎞ | Q21: =M21*J21 -> 0 | T21: ㎞ | U21: =IFERROR(ROUNDDOWN(($H$13*Q21),0),0) -> 0 | X21: 円 | AB21: 円 | AF21: 人 | AJ21: 円 | AK21: =IFERROR(ROUNDDOWN((Y21*AC21),0)," ")+AG21 -> 0 | AN21: 円
A22: 4 | I22: km | L22: 回 | M22: =H22*K22*2 -> 0 | P22: ㎞ | Q22: =M22*J22 -> 0 | T22: ㎞ | U22: =IFERROR(ROUNDDOWN(($H$13*Q22),0),0) -> 0 | X22: 円 | AB22: 円 | AF22: 人 | AJ22: 円 | AK22: =IFERROR(ROUNDDOWN((Y22*AC22),0)," ")+AG22 -> 0 | AN22: 円
A23: 5 | I23: km | L23: 回 | M23: =H23*K23*2 -> 0 | P23: ㎞ | Q23: =M23*J23 -> 0 | T23: ㎞ | U23: =IFERROR(ROUNDDOWN(($H$13*Q23),0),0) -> 0 | X23: 円 | AB23: 円 | AF23: 人 | AJ23: 円 | AK23: =IFERROR(ROUNDDOWN((Y23*AC23),0)," ")+AG23 -> 0 | AN23: 円
A24: 6 | I24: km | L24: 回 | M24: =H24*K24*2 -> 0 | P24: ㎞ | Q24: =M24*J24 -> 0 | T24: ㎞ | U24: =IFERROR(ROUNDDOWN(($H$13*Q24),0),0) -> 0 | X24: 円 | AB24: 円 | AF24: 人 | AJ24: 円 | AK24: =IFERROR(ROUNDDOWN((Y24*AC24),0)," ")+AG24 -> 0 | AN24: 円
A25: 7 | I25: km | L25: 回 | M25: =H25*K25*2 -> 0 | P25: ㎞ | Q25: =M25*J25 -> 0 | T25: ㎞ | U25: =IFERROR(ROUNDDOWN(($H$13*Q25),0),0) -> 0 | X25: 円 | AB25: 円 | AF25: 人 | AJ25: 円 | AK25: =IFERROR(ROUNDDOWN((Y25*AC25),0)," ")+AG25 -> 0 | AN25: 円
A26: 8 | I26: km | L26: 回 | M26: =H26*K26*2 -> 0 | P26: ㎞ | Q26: =M26*J26 -> 0 | T26: ㎞ | U26: =IFERROR(ROUNDDOWN(($H$13*Q26),0),0) -> 0 | X26: 円 | AB26: 円 | AF26: 人 | AJ26: 円 | AK26: =IFERROR(ROUNDDOWN((Y26*AC26),0)," ")+AG26 -> 0 | AN26: 円
A27: 9 | I27: km | L27: 回 | M27: =H27*K27*2 -> 0 | P27: ㎞ | Q27: =M27*J27 -> 0 | T27: ㎞ | U27: =IFERROR(ROUNDDOWN(($H$13*Q27),0),0) -> 0 | X27: 円 | AB27: 円 | AF27: 人 | AJ27: 円 | AK27: =IFERROR(ROUNDDOWN((Y27*AC27),0)," ")+AG27 -> 0 | AN27: 円
A28: 10 | I28: km | L28: 回 | M28: =H28*K28*2 -> 0 | P28: ㎞ | Q28: =M28*J28 -> 0 | T28: ㎞ | U28: =IFERROR(ROUNDDOWN(($H$13*Q28),0),0) -> 0 | X28: 円 | AB28: 円 | AF28: 人 | AJ28: 円 | AK28: =IFERROR(ROUNDDOWN((Y28*AC28),0)," ")+AG28 -> 0 | AN28: 円
A29: 11 | I29: km | L29: 回 | M29: =H29*K29*2 -> 0 | P29: ㎞ | Q29: =M29*J29 -> 0 | T29: ㎞ | U29: =IFERROR(ROUNDDOWN(($H$13*Q29),0),0) -> 0 | X29: 円 | AB29: 円 | AF29: 人 | AJ29: 円 | AK29: =IFERROR(ROUNDDOWN((Y29*AC29),0)," ")+AG29 -> 0 | AN29: 円
A30: 12 | I30: km | L30: 回 | M30: =H30*K30*2 -> 0 | P30: ㎞ | Q30: =M30*J30 -> 0 | T30: ㎞ | U30: =IFERROR(ROUNDDOWN(($H$13*Q30),0),0) -> 0 | X30: 円 | AB30: 円 | AF30: 人 | AJ30: 円 | AK30: =IFERROR(ROUNDDOWN((Y30*AC30),0)," ")+AG30 -> 0 | AN30: 円
... A58: 40 | I58: km | L58: 回 | M58: =H58*K58*2 -> 0 | P58: ㎞ | Q58: =M58*J58 -> 0 | T58: ㎞ | U58: =IFERROR(ROUNDDOWN(($H$13*Q58),0),0) -> 0 | X58: 円 | AB58: 円 | AF58: 人 | AJ58: 円 | AK58: =IFERROR(ROUNDDOWN((Y58*AC58),0)," ")+AG58 -> 0 | AN58: 円
A60: 実証運行費計 | D60: =SUM(U19:W58) -> 0 | L60: 円 | O60: 実績収入計 | S60: =SUM(AK19:AM58) -> 0 | AC60: 円
A62: ※収益納付についてはシステム上で計算いたします。
A63: 収益納付が見込まれる場合にも、システム上には実証運行費をママご入力いただき、実績収入額も必要に応じご入力ください
B65: 【入力に際しての注意事項】
B66: ※「前年度の事業損益明細表における損益の実績」については、消費税相当額を控除した額を記載すること。ただ、以下に掲げる事業者においては消費税を含めて記載することができます。
B67: ①消費税法における納税義務者とならない補助事業者
B68: ②免税事業者である補助事業者
B69: ③簡易課税事業者である補助事業
B70: ④国若しくは地方公共団体（特別会計を設けて事業を行う場合に限る。）、消費税法別表第 3に掲げる法人である補助対象者
B71: ⑤国又は地方公共団体の一般会計に係る業務として事業を行う補助対象者
B72: ⑥課税事業者のうち課税売上割合が低い等の理由から、消費税仕入控除税額確定後の返還を選択する補助事業者
B73: ※イ欄の運行費については、事業損益明細表の一般管理費を控除した額を記載すること。
...

Sheet 鉄軌道
A1: =乗合!A1 -> 様式21_実証運行に係る実績報告書
A3: 実証運行費の算出根拠（鉄軌道関係）
Q4: ※黄色のセルに記入してください
L5: 計画申請番号 | O5: {=IF(AND(LEN(O6)=14,LEFT(O6,2)="OT",MID(O6,3,2)="08",MID(O6,5,1)="K",SUMPRODUCT(--ISNUMBER(FIND(MID(O6,ROW($6:$14),1),"0123456789")))=9),LEFT(O6,4)&"P"&MID(O6,6,5)&"0000","交付申請番号を正しくご入力ください ※半角数字・大文字小文字もご注意ください")} -> 交付申請番号を正しくご入力ください ※半角数字・大文字小文字もご注意ください
L6: 交付申請番号
L7: 補助対象事業者名
L8: 補助対象事業名
L9: 類型 | R9: 補助率 | U9: =IF(O9="","自動反映",IF(O9="②一般型","1/2","2/3")) -> 自動反映
A12: １．実証運行費の算出
A13: ○実証運行に要した費用…（Ａ） | T13: （単位：円）
A14: ＃ | B14: 実証運行に必要な経費名目 | G14: 費用/運行1回 | K14: 積算内容 | Q14: 運行回数 | T14: 総費用額
A15: 1 | T15: =G15*Q15 -> 0
A16: 2 | T16: =G16*Q16 -> 0
A17: 3 | T17: =G17*Q17 -> 0
A18: 4 | T18: =G18*Q18 -> 0
A19: 5 | T19: =G19*Q19 -> 0
A20: 合 計 | T20: =SUM(T15:X19) -> 0
A21: ※実証運行に関する運転手等の人件費 (補助事業者が雇用している正社員・契約社員等に対する人件費)、燃料費などに該当するものを入力ください
A23: ○実証運行により発生した実績収入…（Ｂ） | T23: （単位：円）
A24: ＃ | B24: 実証運行により発生する収入名目 | G24: 収入/運行1回 | K24: 積算内容 | Q24: 運行回数 | T24: 総実績収入額
A25: 1 | T25: =G25*Q25 -> 0
A26: 2 | T26: =G26*Q26 -> 0
A27: 3 | T27: =G27*Q27 -> 0
A28: 4 | T28: =G28*Q28 -> 0
A29: 5 | T29: =G29*Q29 -> 0
A30: 合 計 | T30: =SUM(T25:X29) -> 0
A31: ※運行回数は片道を１回とし、循環経路は１循環で運行回数１回とする。
A32: ※実証運行に係る費用/収入は、消費税を除いた金額を記載すること。
A34: 実証運行費計 | D34: =T20 -> 0 | G34: 円 | K34: 実績収入計 | M34: =T30 -> 0 | P34: 円
A36: ※収益納付についてはシステム上で計算いたします。
A37: 収益納付が見込まれる場合にも、システム上には実証運行費をママご入力いただき、実績収入額も必要に応じご入力ください

Sheet 海事
A1: =乗合!A1 -> 様式21_実証運行に係る実績報告書
A3: 実証運航費の算出根拠（海事関係）
Q4: ※黄色のセルに記入してください
L5: 計画申請番号 | O5: {=IF(AND(LEN(O6)=14,LEFT(O6,2)="OT",MID(O6,3,2)="08",MID(O6,5,1)="K",SUMPRODUCT(--ISNUMBER(FIND(MID(O6,ROW($6:$14),1),"0123456789")))=9),LEFT(O6,4)&"P"&MID(O6,6,5)&"0000","交付申請番号を正しくご入力ください ※半角数字・大文字小文字もご注意ください")} -> 交付申請番号を正しくご入力ください ※半角数字・大文字小文字もご注意ください
L6: 交付申請番号
L7: 補助対象事業者名
L8: 補助対象事業名
L9: 類型 | R9: 補助率 | U9: =IF(O9="","自動反映",IF(O9="②一般型","1/2","2/3")) -> 自動反映
A12: １．実証運航費の算出
A13: ○実証運航に要した費用…（Ａ） | T13: （単位：円）
A14: ＃ | B14: 実証運航に必要な経費名目 | G14: 費用/運航1回 | K14: 積算内容 | Q14: 運航回数 | T14: 総費用額
A15: 1 | T15: =G15*Q15 -> 0
A16: 2 | T16: =G16*Q16 -> 0
A17: 3 | T17: =G17*Q17 -> 0
A18: 4 | T18: =G18*Q18 -> 0
A19: 5 | T19: =G19*Q19 -> 0
A20: 合 計 | T20: =SUM(T15:X19) -> 0
A21: ※実証運航に関する運転手等の人件費 (補助事業者が雇用している正社員・契約社員等に対する人件費)、燃料費などに該当するものを入力ください
A23: ○実証運航により発生した実績収入…（Ｂ） | T23: （単位：円）
A24: ＃ | B24: 実証運航により発生する収入名目 | G24: 収入/運航1回 | K24: 積算内容 | Q24: 運航回数 | T24: 総実績収入額
A25: 1 | T25: =G25*Q25 -> 0
A26: 2 | T26: =G26*Q26 -> 0
A27: 3 | T27: =G27*Q27 -> 0
A28: 4 | T28: =G28*Q28 -> 0
A29: 5 | T29: =G29*Q29 -> 0
A30: 合 計 | T30: =SUM(T25:X29) -> 0
A31: ※運航回数は片道を１回とし、循環経路は１循環で運航回数１回とする。
A32: ※実証運航に係る費用/収入は、消費税を除いた金額を記載すること。
A34: 実証運航費計 | D34: =T20 -> 0 | G34: 円 | K34: 実績収入計 | M34: =T30 -> 0 | P34: 円
A36: ※収益納付についてはシステム上で計算いたします。
A37: 収益納付が見込まれる場合にも、システム上には実証運航費をママご入力いただき、実績収入額も必要に応じご入力ください

Sheet その他
A1: =乗合!A1 -> 様式21_実証運行に係る実績報告書
A3: 実証事業費の算出根拠（その他の事業）
Q4: ※黄色のセルに記入してください
L5: 計画申請番号 | O5: {=IF(AND(LEN(O6)=14,LEFT(O6,2)="OT",MID(O6,3,2)="08",MID(O6,5,1)="K",SUMPRODUCT(--ISNUMBER(FIND(MID(O6,ROW($6:$14),1),"0123456789")))=9),LEFT(O6,4)&"P"&MID(O6,6,5)&"0000","交付申請番号を正しくご入力ください ※半角数字・大文字小文字もご注意ください")} -> 交付申請番号を正しくご入力ください ※半角数字・大文字小文字もご注意ください
L6: 交付申請番号
L7: 補助対象事業者名
L8: 補助対象事業名
L9: 類型 | R9: 補助率 | U9: =IF(O9="","自動反映",IF(O9="②一般型","1/2","2/3")) -> 自動反映
A12: １．実証事業費の算出
A13: ○実証事業に要した費用…（Ａ） | T13: （単位：円）
A14: ＃ | B14: 実証事業に必要な経費名目 | G14: 費用/事業1回 | K14: 積算内容 | Q14: 事業回数 | T14: 総費用額
A15: 1 | T15: =G15*Q15 -> 0
A16: 2 | T16: =G16*Q16 -> 0
A17: 3 | T17: =G17*Q17 -> 0
A18: 4 | T18: =G18*Q18 -> 0
A19: 5 | T19: =G19*Q19 -> 0
A20: 合 計 | T20: =SUM(T15:X19) -> 0
A21: ※実証運行に関する運転手等の人件費 (補助事業者が雇用している正社員・契約社員等に対する人件費)、燃料費などに該当するものを入力ください
A23: ○実証事業により発生した実績収入…（Ｂ） | T23: （単位：円）
A24: ＃ | B24: 実証事業により発生する収入名目 | G24: 収入/事業1回 | K24: 積算内容 | Q24: 事業回数 | T24: 総実績収入額
A25: 1 | T25: =G25*Q25 -> 0
A26: 2 | T26: =G26*Q26 -> 0
A27: 3 | T27: =G27*Q27 -> 0
A28: 4 | T28: =G28*Q28 -> 0
A29: 5 | T29: =G29*Q29 -> 0
A30: 合 計 | T30: =SUM(T25:X29) -> 0
A31: ※事業回数は片道を１回とし、循環経路は１循環で事業回数１回とする。
A32: ※実証運行に係る費用/収入は、消費税を除いた金額を記載すること。
A34: 実証事業費計 | D34: =T20 -> 0 | G34: 円 | K34: 実績収入計 | M34: =T30 -> 0 | P34: 円
A36: ※収益納付についてはシステム上で計算いたします。
A37: 収益納付が見込まれる場合にも、システム上には実証運航費をママご入力いただき、実績収入額も必要に応じご入力ください

Sheet 記入例（貸切バス・タクシー）
A1: =乗合!A1 -> 様式21_実証運行に係る実績報告書
A2: 実証運行費の算出根拠（貸切バス・タクシー）
J3: 計画申請番号 | K3: {=IF(AND(LEN(K4)=14,LEFT(K4,2)="OT",MID(K4,3,2)="08",MID(K4,5,1)="K",SUMPRODUCT(--ISNUMBER(FIND(MID(K4,ROW($6:$14),1),"0123456789")))=9),LEFT(K4,4)&"P"&MID(K4,6,5)&"0000","交付申請番号を正しくご入力ください ※半角数字・大文字小文字もご注意ください")} -> OT08P123450000
J4: 交付申請番号 | K4: OT08K123450001
B6: 補助対象事業者名 | F6: 補助申請額計 （実証運行運賃＋その他諸経費） | J6: （参考）実際の運行に関する計算
B7: ××交通株式会社
B8: 補助対象事業者名 | F8: 補助金適用分運賃(C) | I8: =L36 -> 2700 | J8: 運行にあたる経費(A+B) | M8: =I36+I50 -> 5400
B9: XXXX市周遊事業 | F9: その他諸経費(B) | I9: =I50 -> 1000 | J9: 実績収入額計(D+E) | M9: =M36+M50 -> 4000
B10: 類型 | D10: 補助率 | F10: 合計（運賃＋その他諸経費） | I10: =I8+I9 -> 3700 | J10: 最大補助見込み額(F) | M10: =IF(ISTEXT(I11),0,I11) -> 2466 | N10: =IF(M11="","",IF(M8=M11,"【OK】収益納付についてはシステム上で計算いたします。収益納付が見込まれる場合にも、システム上には運行にあたる経費(A＋B)をママご入力いただき、実績収入額計(D+E)も必要に応じご入力ください",IF(M11<0,"道路運送法10条で定められている通り、運賃の割り戻しは禁止です。（G）がマイナスの場合、事務局より別途ご連絡させていただく可能性がございます。","【OK】収益納付についてはシステム上で計算いたします。収益納付が見込まれる場合にも、システム上には運行にあたる経費(A＋B)をママご入力いただき、実績収入額計(D+E)も必要に応じご入力ください"))) -> 【OK】収益納付についてはシステム上で計算いたします。収益納付が見込まれる場合にも、システム上には運行にあたる経費(A＋B)をママご入力いただき、実績収入額計(D+E)も必要に応じご入力ください
B11: ①地域一体型 | D11: =IF(B11="","自動反映",IF(B11="②一般型","1/2","2/3")) -> 2/3 | F11: F.補助申請見込み額 | I11: =IF(B11="","類型を選択してください",IF(AND(D11="2/3",I10>300000000),200000000,IF(D11="2/3",ROUNDDOWN(I10*2/3,0),IF(AND(D11="1/2",I10>100000000),50000000,ROUNDDOWN(I10*1/2,0))))) -> 2466 | J11: 実績収入額＋補助見込み額-運行経費(A+B)※G | M11: =IF(M10="","",M9+M10)-M8 -> 1066
A13: 項番 | B13: 運行経費【実施運賃を適用】 | J13: 補助金対象分【公示運賃額（新下限額）を適用】 | M13: 運賃収入
B14: 運賃名目(運行経路等) | C14: 実績 運行回数 | D14: キロ当たり単価での運行時 | G14: 時間当たり単価での運行時 | I14: A.合計（円） | J14: ★最低運賃（円） ※キロ当たり | K14: ★最低運賃（円） ※時間あたり | L14: C.合計（円） | M14: D.実績収入額（円）
D15: キロ当たり単価 | F15: 1運行当たりの キロ数 | G15: 時間当たり単価 | H15: 1運行当たりの 時間数
A16: ① | B16: AA~BB | C16: 1 | D16: 800 | F16: 3 | G16: 1000 | H16: 2 | I16: =ROUNDDOWN(C16*D16*F16,0)+ROUNDDOWN(C16*G16*H16,0) -> 4400 | J16: 500 | K16: 600 | L16: =ROUNDDOWN(C16*J16*F16,0)+ROUNDDOWN(C16*K16*H16,0) -> 2700 | M16: 4000
A17: ② | I17: =ROUNDDOWN(C17*D17*F17,0)+ROUNDDOWN(C17*G17*H17,0) -> 0 | L17: =ROUNDDOWN(C17*J17*F17,0)+ROUNDDOWN(C17*K17*H17,0) -> 0
A18: ③ | I18: =ROUNDDOWN(C18*D18*F18,0)+ROUNDDOWN(C18*G18*H18,0) -> 0 | L18: =ROUNDDOWN(C18*J18*F18,0)+ROUNDDOWN(C18*K18*H18,0) -> 0
A19: ④ | I19: =ROUNDDOWN(C19*D19*F19,0)+ROUNDDOWN(C19*G19*H19,0) -> 0 | L19: =ROUNDDOWN(C19*J19*F19,0)+ROUNDDOWN(C19*K19*H19,0) -> 0
A20: ⑤ | I20: =ROUNDDOWN(C20*D20*F20,0)+ROUNDDOWN(C20*G20*H20,0) -> 0 | L20: =ROUNDDOWN(C20*J20*F20,0)+ROUNDDOWN(C20*K20*H20,0) -> 0
A21: ⑥ | I21: =ROUNDDOWN(C21*D21*F21,0)+ROUNDDOWN(C21*G21*H21,0) -> 0 | L21: =ROUNDDOWN(C21*J21*F21,0)+ROUNDDOWN(C21*K21*H21,0) -> 0
A22: ⑦ | I22: =ROUNDDOWN(C22*D22*F22,0)+ROUNDDOWN(C22*G22*H22,0) -> 0 | L22: =ROUNDDOWN(C22*J22*F22,0)+ROUNDDOWN(C22*K22*H22,0) -> 0
A23: ⑧ | I23: =ROUNDDOWN(C23*D23*F23,0)+ROUNDDOWN(C23*G23*H23,0) -> 0 | L23: =ROUNDDOWN(C23*J23*F23,0)+ROUNDDOWN(C23*K23*H23,0) -> 0
A24: ⑨ | I24: =ROUNDDOWN(C24*D24*F24,0)+ROUNDDOWN(C24*G24*H24,0) -> 0 | L24: =ROUNDDOWN(C24*J24*F24,0)+ROUNDDOWN(C24*K24*H24,0) -> 0
A25: ⑩ | I25: =ROUNDDOWN(C25*D25*F25,0)+ROUNDDOWN(C25*G25*H25,0) -> 0 | L25: =ROUNDDOWN(C25*J25*F25,0)+ROUNDDOWN(C25*K25*H25,0) -> 0
A26: ⑪ | I26: =ROUNDDOWN(C26*D26*F26,0)+ROUNDDOWN(C26*G26*H26,0) -> 0 | L26: =ROUNDDOWN(C26*J26*F26,0)+ROUNDDOWN(C26*K26*H26,0) -> 0
A27: ⑫ | I27: =ROUNDDOWN(C27*D27*F27,0)+ROUNDDOWN(C27*G27*H27,0) -> 0 | L27: =ROUNDDOWN(C27*J27*F27,0)+ROUNDDOWN(C27*K27*H27,0) -> 0
A28: ⑬ | I28: =ROUNDDOWN(C28*D28*F28,0)+ROUNDDOWN(C28*G28*H28,0) -> 0 | L28: =ROUNDDOWN(C28*J28*F28,0)+ROUNDDOWN(C28*K28*H28,0) -> 0
... A35: ⑳ | I35: =ROUNDDOWN(C35*D35*F35,0)+ROUNDDOWN(C35*G35*H35,0) -> 0 | L35: =ROUNDDOWN(C35*J35*F35,0)+ROUNDDOWN(C35*K35*H35,0) -> 0
A36: 計 | F36: =SUM(F16:F35) -> 3 | H36: =SUM(H16:H35) -> 2 | I36: =SUM(I16:I35) -> 4400 | L36: =SUM(L16:L35) -> 2700 | M36: =SUM(M16:M35) -> 4000
B38: その他実証運行に係る諸経費（高速料金、駐車料金等、運行に係る部分を想定） | J38: その他実証運行による収受額
A39: 項番 | B39: 経費名目 | F39: 運賃名目で該当の項番を入力してください | I39: B.経費額（円） | J39: 収受額名目 | M39: E.実績収入額 （円）
A40: 1 | B40: 高速代料金 | F40: ① | I40: 1000
A41: 2
A42: 3
A43: 4
A44: 5
A45: 6
A46: 7
A47: 8
A48: 9
A49: 10
...

Sheet 記入例（乗合）
A1: （様式9）実証運行の積算書（Ver.1）
A2: 実証運行費の算出根拠（乗合）
AB3: ※黄色のセルに入力してください
W4: 計画申請番号 | AB4: {=IF(AND(LEN(AB5)=14,LEFT(AB5,2)="OT",MID(AB5,3,2)="08",MID(AB5,5,1)="K",SUMPRODUCT(--ISNUMBER(FIND(MID(AB5,ROW($6:$14),1),"0123456789")))=9),LEFT(AB5,4)&"P"&MID(AB5,6,5)&"0000","交付申請番号を正しくご入力ください ※半角数字・大文字小文字もご注意ください")} -> OT08P123450000
W5: 交付申請番号 | AB5: OT08K123450001
W6: 補助対象事業者名 | AB6: XXバス株式会社
W7: 補助対象事業名 | AB7: XXXX市周遊事業
W8: 類型 | AB8: ①地域一体型 | AH8: 補助率 | AK8: =IF(AB8="","自動反映",IF(AB8="②一般型","1/2","2/3")) -> 2/3
A10: １．前年度の事業損益明細表における実績
A11: 補助対象期間の運行費（イ） | H11: 300 | L11: 千円
A12: 年間実車走行実績（ロ） | H12: 400 | L12: ㎞
A13: キロ当たり運行費用（ハ） （ハ＝イ÷ロ） | H13: =IFERROR((H11/H12)*1000,"") -> 750 | L13: 円
A15: ２．実証運行費の算出
A17: ＃ | B17: 運行系統名 | D17: 運行系統 | H17: キロ程 （ニ） | J17: 実証運行 実績日数 （ホ） | K17: 1日あたり 運行回数（へ） | M17: 計画実車走行キロ（ト） （ト＝ニ×ヘ×２） | Q17: 実証運行期間の 計画実車走行キロ（チ） （チ＝ト×ホ） | U17: 実証運行費（リ） （リ＝ハ×チ） | Y17: 実績設定運賃収入 （ヌ） | AC17: 実証運行期間中の実績輸送人員 （ル） | AG17: 実証運行期間中のその他収入（ヲ） | AK17: 実証運行期間中の実績収入（ワ） （ワ＝ヌ×ル＋ヲ）
D18: 起点 | E18: 主な経由地 | G18: 終点
A19: 1 | B19: XXX | D19: A | E19: B | G19: C | H19: 10 | I19: km | J19: 3 | K19: 3 | L19: 回 | M19: =H19*K19*2 -> 60 | P19: ㎞ | Q19: =M19*J19 -> 180 | T19: ㎞ | U19: =IFERROR(ROUNDDOWN(($H$13*Q19),0),0) -> 135000 | X19: 円 | Y19: 500 | AB19: 円 | AC19: 400 | AF19: 人 | AG19: 50000 | AJ19: 円 | AK19: =IFERROR(ROUNDDOWN((Y19*AC19),0)," ")+AG19 -> 250000 | AN19: 円
A20: 2 | I20: km | L20: 回 | M20: =H20*K20*2 -> 0 | P20: ㎞ | Q20: =M20*J20 -> 0 | T20: ㎞ | U20: =IFERROR(ROUNDDOWN(($H$13*Q20),0),0) -> 0 | X20: 円 | AB20: 円 | AF20: 人 | AJ20: 円 | AK20: =IFERROR(ROUNDDOWN((Y20*AC20),0)," ")+AG20 -> 0 | AN20: 円
A21: 3 | I21: km | L21: 回 | M21: =H21*K21*2 -> 0 | P21: ㎞ | Q21: =M21*J21 -> 0 | T21: ㎞ | U21: =IFERROR(ROUNDDOWN(($H$13*Q21),0),0) -> 0 | X21: 円 | AB21: 円 | AF21: 人 | AJ21: 円 | AK21: =IFERROR(ROUNDDOWN((Y21*AC21),0)," ")+AG21 -> 0 | AN21: 円
A22: 4 | I22: km | L22: 回 | M22: =H22*K22*2 -> 0 | P22: ㎞ | Q22: =M22*J22 -> 0 | T22: ㎞ | U22: =IFERROR(ROUNDDOWN(($H$13*Q22),0),0) -> 0 | X22: 円 | AB22: 円 | AF22: 人 | AJ22: 円 | AK22: =IFERROR(ROUNDDOWN((Y22*AC22),0)," ")+AG22 -> 0 | AN22: 円
A23: 5 | I23: km | L23: 回 | M23: =H23*K23*2 -> 0 | P23: ㎞ | Q23: =M23*J23 -> 0 | T23: ㎞ | U23: =IFERROR(ROUNDDOWN(($H$13*Q23),0),0) -> 0 | X23: 円 | AB23: 円 | AF23: 人 | AJ23: 円 | AK23: =IFERROR(ROUNDDOWN((Y23*AC23),0)," ")+AG23 -> 0 | AN23: 円
A24: 6 | I24: km | L24: 回 | M24: =H24*K24*2 -> 0 | P24: ㎞ | Q24: =M24*J24 -> 0 | T24: ㎞ | U24: =IFERROR(ROUNDDOWN(($H$13*Q24),0),0) -> 0 | X24: 円 | AB24: 円 | AF24: 人 | AJ24: 円 | AK24: =IFERROR(ROUNDDOWN((Y24*AC24),0)," ")+AG24 -> 0 | AN24: 円
A25: 7 | I25: km | L25: 回 | M25: =H25*K25*2 -> 0 | P25: ㎞ | Q25: =M25*J25 -> 0 | T25: ㎞ | U25: =IFERROR(ROUNDDOWN(($H$13*Q25),0),0) -> 0 | X25: 円 | AB25: 円 | AF25: 人 | AJ25: 円 | AK25: =IFERROR(ROUNDDOWN((Y25*AC25),0)," ")+AG25 -> 0 | AN25: 円
A26: 8 | I26: km | L26: 回 | M26: =H26*K26*2 -> 0 | P26: ㎞ | Q26: =M26*J26 -> 0 | T26: ㎞ | U26: =IFERROR(ROUNDDOWN(($H$13*Q26),0),0) -> 0 | X26: 円 | AB26: 円 | AF26: 人 | AJ26: 円 | AK26: =IFERROR(ROUNDDOWN((Y26*AC26),0)," ")+AG26 -> 0 | AN26: 円
A27: 9 | I27: km | L27: 回 | M27: =H27*K27*2 -> 0 | P27: ㎞ | Q27: =M27*J27 -> 0 | T27: ㎞ | U27: =IFERROR(ROUNDDOWN(($H$13*Q27),0),0) -> 0 | X27: 円 | AB27: 円 | AF27: 人 | AJ27: 円 | AK27: =IFERROR(ROUNDDOWN((Y27*AC27),0)," ")+AG27 -> 0 | AN27: 円
A28: 10 | I28: km | L28: 回 | M28: =H28*K28*2 -> 0 | P28: ㎞ | Q28: =M28*J28 -> 0 | T28: ㎞ | U28: =IFERROR(ROUNDDOWN(($H$13*Q28),0),0) -> 0 | X28: 円 | AB28: 円 | AF28: 人 | AJ28: 円 | AK28: =IFERROR(ROUNDDOWN((Y28*AC28),0)," ")+AG28 -> 0 | AN28: 円
A29: 11 | I29: km | L29: 回 | M29: =H29*K29*2 -> 0 | P29: ㎞ | Q29: =M29*J29 -> 0 | T29: ㎞ | U29: =IFERROR(ROUNDDOWN(($H$13*Q29),0),0) -> 0 | X29: 円 | AB29: 円 | AF29: 人 | AJ29: 円 | AK29: =IFERROR(ROUNDDOWN((Y29*AC29),0)," ")+AG29 -> 0 | AN29: 円
A30: 12 | I30: km | L30: 回 | M30: =H30*K30*2 -> 0 | P30: ㎞ | Q30: =M30*J30 -> 0 | T30: ㎞ | U30: =IFERROR(ROUNDDOWN(($H$13*Q30),0),0) -> 0 | X30: 円 | AB30: 円 | AF30: 人 | AJ30: 円 | AK30: =IFERROR(ROUNDDOWN((Y30*AC30),0)," ")+AG30 -> 0 | AN30: 円
A31: 13 | I31: km | L31: 回 | M31: =H31*K31*2 -> 0 | P31: ㎞ | Q31: =M31*J31 -> 0 | T31: ㎞ | U31: =IFERROR(ROUNDDOWN(($H$13*Q31),0),0) -> 0 | X31: 円 | AB31: 円 | AF31: 人 | AJ31: 円 | AK31: =IFERROR(ROUNDDOWN((Y31*AC31),0)," ")+AG31 -> 0 | AN31: 円
... A58: 40 | I58: km | L58: 回 | M58: =H58*K58*2 -> 0 | P58: ㎞ | Q58: =M58*J58 -> 0 | T58: ㎞ | U58: =IFERROR(ROUNDDOWN(($H$13*Q58),0),0) -> 0 | X58: 円 | AB58: 円 | AF58: 人 | AJ58: 円 | AK58: =IFERROR(ROUNDDOWN((Y58*AC58),0)," ")+AG58 -> 0 | AN58: 円
A60: 実証運行費計 | D60: =SUM(U19:W58) -> 135000 | L60: 円 | O60: 実績収入計 | S60: =SUM(AK19:AM58) -> 250000 | AC60: 円
A62: ※収益納付についてはシステム上で計算いたします。
A63: 収益納付が見込まれる場合にも、システム上には実証運行費をママご入力いただき、実績収入額も必要に応じご入力ください
B65: 【入力に際しての注意事項】
B66: ※「前年度の事業損益明細表における損益の実績」については、消費税相当額を控除した額を記載すること。ただ、以下に掲げる事業者においては消費税を含めて記載することができます。
B67: ①消費税法における納税義務者とならない補助事業者
B68: ②免税事業者である補助事業者
B69: ③簡易課税事業者である補助事業
B70: ④国若しくは地方公共団体（特別会計を設けて事業を行う場合に限る。）、消費税法別表第 3に掲げる法人である補助対象者
B71: ⑤国又は地方公共団体の一般会計に係る業務として事業を行う補助対象者
B72: ⑥課税事業者のうち課税売上割合が低い等の理由から、消費税仕入控除税額確定後の返還を選択する補助事業者
...

Sheet 記入例（鉄軌道）
A1: =乗合!A1 -> 様式21_実証運行に係る実績報告書
A3: 実証運行費の算出根拠（鉄軌道関係）
Q4: ※黄色のセルに記入してください
L5: 計画申請番号 | O5: {=IF(AND(LEN(O6)=14,LEFT(O6,2)="OT",MID(O6,3,2)="08",MID(O6,5,1)="K",SUMPRODUCT(--ISNUMBER(FIND(MID(O6,ROW($6:$14),1),"0123456789")))=9),LEFT(O6,4)&"P"&MID(O6,6,5)&"0000","交付申請番号を正しくご入力ください ※半角数字・大文字小文字もご注意ください")} -> OT08P123450000
L6: 交付申請番号 | O6: OT08K123450001
L7: 補助対象事業者名 | O7: ××鉄道株式会社
L8: 補助対象事業名 | O8: XXXXX市周遊計画
L9: 類型 | O9: ①地域一体型 | R9: 補助率 | U9: =IF(O9="","自動反映",IF(O9="②一般型","1/2","2/3")) -> 2/3
A12: １．実証運行費の算出
A13: ○実証運行に要した費用…（Ａ） | T13: （単位：円）
A14: ＃ | B14: 実証運行に必要な経費名目 | G14: 費用/運行1回 | K14: 積算内容 | Q14: 運行回数 | T14: 総費用額
A15: 1 | B15: 人件費 | G15: 60000 | K15: 人件費（過去3年平均） | Q15: 10 | T15: =G15*Q15 -> 600000
A16: 2 | B16: 燃料費 | G16: XX | K16: 燃料費（過去3年平均） | Q16: 10 | T16: 0
A17: 3 | B17: XX費 | G17: XX | Q17: 10 | T17: 0
A18: 4 | T18: =G18*Q18 -> 0
A19: 5 | T19: =G19*Q19 -> 0
A20: 合 計 | T20: =SUM(T15:X19) -> 600000
A21: ※実証運行に関する運転手等の人件費 (補助事業者が雇用している正社員・契約社員等に対する人件費)、燃料費などに該当するものを入力ください
A23: ○実証運行により発生した実績収入…（Ｂ） | T23: （単位：円）
A24: ＃ | B24: 実証運行により発生する収入名目 | G24: 収入/運行1回 | K24: 積算内容 | Q24: 運行回数 | T24: 総実績収入額
A25: 1 | B25: 旅客運賃 | G25: 10000 | K25: 1回あたりの総収入 | Q25: 10 | T25: =G25*Q25 -> 100000
A26: 2 | T26: =G26*Q26 -> 0
A27: 3 | T27: =G27*Q27 -> 0
A28: 4 | T28: =G28*Q28 -> 0
A29: 5 | T29: =G29*Q29 -> 0
A30: 合 計 | T30: =SUM(T25:X29) -> 100000
A31: ※運行回数は片道を１回とし、循環経路は１循環で運行回数１回とする。
A32: ※実証運行に係る費用/収入は、消費税を除いた金額を記載すること。
A34: 実証運行費計 | D34: =T20 -> 600000 | G34: 円 | K34: 実績収入計 | M34: =T30 -> 100000 | P34: 円
A36: ※収益納付についてはシステム上で計算いたします。
A37: 収益納付が見込まれる場合にも、システム上には実証運行費をママご入力いただき、実績収入額も必要に応じご入力ください

Sheet 記入例（海事）
A1: =乗合!A1 -> 様式21_実証運行に係る実績報告書
A3: 実証運航費の算出根拠（海事関係）
Q4: ※黄色のセルに記入してください
L5: 計画申請番号 | O5: {=IF(AND(LEN(O6)=14,LEFT(O6,2)="OT",MID(O6,3,2)="08",MID(O6,5,1)="K",SUMPRODUCT(--ISNUMBER(FIND(MID(O6,ROW($6:$14),1),"0123456789")))=9),LEFT(O6,4)&"P"&MID(O6,6,5)&"0000","交付申請番号を正しくご入力ください ※半角数字・大文字小文字もご注意ください")} -> OT08P123450000
L6: 交付申請番号 | O6: OT08K123450001
L7: 補助対象事業者名 | O7: ××海運株式会社
L8: 補助対象事業名 | O8: XXXXX市周遊計画
L9: 類型 | O9: ①地域一体型 | R9: 補助率 | U9: =IF(O9="","自動反映",IF(O9="②一般型","1/2","2/3")) -> 2/3
A12: １．実証運航費の算出
A13: ○実証運航に要した費用…（Ａ） | T13: （単位：円）
A14: ＃ | B14: 実証運航に必要な経費名目 | G14: 費用/運航1回 | K14: 積算内容 | Q14: 運航回数 | T14: 総費用額
A15: 1 | B15: 燃料潤滑油費 | G15: 50000 | K15: 1回あたりの燃料費（過去3年平均） | Q15: 2 | T15: =G15*Q15 -> 100000
A16: 2 | B16: 船員費 | G16: 120000 | K16: 船員費（過去3年平均） | Q16: 2 | T16: =G16*Q16 -> 240000
A17: 3 | T17: =G17*Q17 -> 0
A18: 4 | T18: =G18*Q18 -> 0
A19: 5 | T19: =G19*Q19 -> 0
A20: 合 計 | T20: =SUM(T15:X19) -> 340000
A21: ※実証運航に関する運転手等の人件費 (補助事業者が雇用している正社員・契約社員等に対する人件費)、燃料費などに該当するものを入力ください
A23: ○実証運航により発生した実績収入…（Ｂ） | T23: （単位：円）
A24: ＃ | B24: 実証運航により発生する収入名目 | G24: 収入/運航1回 | K24: 積算内容 | Q24: 運航回数 | T24: 総実績収入額
A25: 1 | B25: 旅客運賃 | G25: 60000 | K25: 1回あたりの総運賃 | Q25: 2 | T25: =G25*Q25 -> 120000
A26: 2 | T26: =G26*Q26 -> 0
A27: 3 | T27: =G27*Q27 -> 0
A28: 4 | T28: =G28*Q28 -> 0
A29: 5 | T29: =G29*Q29 -> 0
A30: 合 計 | T30: =SUM(T25:X29) -> 120000
A31: ※運航回数は片道を１回とし、循環経路は１循環で運航回数１回とする。
A32: ※実証運航に係る費用/収入は、消費税を除いた金額を記載すること。
A34: 実証運航費計 | D34: =T20 -> 340000 | G34: 円 | K34: 実績収入計 | M34: =T30 -> 120000 | P34: 円
A36: ※収益納付についてはシステム上で計算いたします。
A37: 収益納付が見込まれる場合にも、システム上には実証運航費をママご入力いただき、実績収入額も必要に応じご入力ください
